BEGIN:VCALENDAR
VERSION:2.0
PRODID:-//Brisbane Archery - ECPv5.3.2.1//NONSGML v1.0//EN
CALSCALE:GREGORIAN
METHOD:PUBLISH
X-WR-CALNAME:Brisbane Archery
X-ORIGINAL-URL:https://brisbanearchery.org.au
X-WR-CALDESC:Events for Brisbane Archery
BEGIN:VTIMEZONE
TZID:Australia/Brisbane
BEGIN:STANDARD
TZOFFSETFROM:+1000
TZOFFSETTO:+1000
TZNAME:AEST
DTSTART:20210101T000000
END:STANDARD
END:VTIMEZONE
BEGIN:VEVENT
DTSTART;TZID=Australia/Brisbane:20210202T190000
DTEND;TZID=Australia/Brisbane:20210202T203000
DTSTAMP:20210223T173454
CREATED:20200920T120330Z
LAST-MODIFIED:20200920T120330Z
UID:5470-1612292400-1612297800@brisbanearchery.org.au
SUMMARY:Tuesday Night Indoor - 25m
DESCRIPTION:Be there by 6.45pm.  Click for details & to register.  2 x 25m Australian (Vegas) Indoor – 60 arrows total.
URL:https://brisbanearchery.org.au/events/tuesday-night-indoor-25m-15/
END:VEVENT
BEGIN:VEVENT
DTSTART;TZID=Australia/Brisbane:20210204T190000
DTEND;TZID=Australia/Brisbane:20210204T203000
DTSTAMP:20210223T173454
CREATED:20200920T122443Z
LAST-MODIFIED:20200920T122443Z
UID:5494-1612465200-1612470600@brisbanearchery.org.au
SUMMARY:Thursday Night Indoor - 25m
DESCRIPTION:Be there by 6.45pm.  Click for details & to register.  2 x 25m Australian (Vegas) Indoor – 60 arrows total.
URL:https://brisbanearchery.org.au/events/thursday-night-indoor-25m-19/
END:VEVENT
BEGIN:VEVENT
DTSTART;TZID=Australia/Brisbane:20210206T080000
DTEND;TZID=Australia/Brisbane:20210206T133000
DTSTAMP:20210223T173454
CREATED:20210117T005550Z
LAST-MODIFIED:20210117T005723Z
UID:6269-1612598400-1612618200@brisbanearchery.org.au
SUMMARY:Archery Certificate Course
DESCRIPTION:Rescheduled from 9 January course postponed owing to COVID lockdown. \nBooking in advance is essential. Click for details & to register. \nNo indoor coaching owing to Archery Certificate Course.
URL:https://brisbanearchery.org.au/events/archery-certificate-course-9/
END:VEVENT
BEGIN:VEVENT
DTSTART;TZID=Australia/Brisbane:20210206T093000
DTEND;TZID=Australia/Brisbane:20210206T110000
DTSTAMP:20210223T173454
CREATED:20201004T071829Z
LAST-MODIFIED:20210117T010815Z
UID:5790-1612603800-1612609200@brisbanearchery.org.au
SUMMARY:No Indoor Coaching
DESCRIPTION:No indoor coaching owing to rescheduled Archery Certificate Course  postponed from 6 January owing to COVID lockdown.
URL:https://brisbanearchery.org.au/events/indoor-coaching-20/
END:VEVENT
BEGIN:VEVENT
DTSTART;TZID=Australia/Brisbane:20210206T100000
DTEND;TZID=Australia/Brisbane:20210206T100000
DTSTAMP:20210223T173454
CREATED:20201004T113803Z
LAST-MODIFIED:20201004T113803Z
UID:5862-1612605600-1612605600@brisbanearchery.org.au
SUMMARY:Roo Shoot
DESCRIPTION:Be there by 9.45am.
URL:https://brisbanearchery.org.au/events/roo-shoot-7/
END:VEVENT
BEGIN:VEVENT
DTSTART;TZID=Australia/Brisbane:20210206T123000
DTEND;TZID=Australia/Brisbane:20210206T123000
DTSTAMP:20210223T173454
CREATED:20201001T074717Z
LAST-MODIFIED:20201004T064257Z
UID:5699-1612614600-1612614600@brisbanearchery.org.au
SUMMARY:Club Shoot.
DESCRIPTION:Grange\, Melbourne\, Darwin\, Geelong\, Newcastle.  Be there by 12.00noon.  Click for details & to register. \n\n\n\n\n	Grange – 90 arrows at 60m on a 122cm target\n\n\n	Melbourne – 90 arrows at 50m on a 122cm target\n\n\n	Darwin – 90 arrows at 40m on a 122cm target\n\n\n	Geelong – 90 arrows at 30m on a 122cm target\n\n\n	Newcastle – (the novice shoot) 90 arrows at 20m on a 122cm target
URL:https://brisbanearchery.org.au/events/club-shoot-members-only-8/
END:VEVENT
BEGIN:VEVENT
DTSTART;TZID=Australia/Brisbane:20210209T190000
DTEND;TZID=Australia/Brisbane:20210209T203000
DTSTAMP:20210223T173454
CREATED:20200920T074229Z
LAST-MODIFIED:20200920T074229Z
UID:5398-1612897200-1612902600@brisbanearchery.org.au
SUMMARY:Tuesday Night Indoor - 18m
DESCRIPTION:Be there by 6.45pm.  Click for details & to register.  2 x 18m Australian (Vegas) Indoor – 60 arrows total.
URL:https://brisbanearchery.org.au/events/tuesday-night-indoor-18m-21/
END:VEVENT
BEGIN:VEVENT
DTSTART;TZID=Australia/Brisbane:20210211T070000
DTEND;TZID=Australia/Brisbane:20210211T203000
DTSTAMP:20210223T173454
CREATED:20200920T124417Z
LAST-MODIFIED:20200920T124429Z
UID:5526-1613026800-1613075400@brisbanearchery.org.au
SUMMARY:Thursday Night Indoor - 18m
DESCRIPTION:Be there by 6.45pm.  Click for details & to register.  2 x 18m Australian (Vegas) Indoor – 60 arrows total.
URL:https://brisbanearchery.org.au/events/thursday-night-indoor-18m-26/
END:VEVENT
BEGIN:VEVENT
DTSTART;VALUE=DATE:20210213
DTEND;VALUE=DATE:20210214
DTSTAMP:20210223T173454
CREATED:20201006T051119Z
LAST-MODIFIED:20201006T051119Z
UID:6028-1613174400-1613260799@brisbanearchery.org.au
SUMMARY:No Indoor Coaching
DESCRIPTION:No indoor coaching owing to Come & Try Course.
URL:https://brisbanearchery.org.au/events/no-indoor-coaching-18/
END:VEVENT
BEGIN:VEVENT
DTSTART;TZID=Australia/Brisbane:20210213T080000
DTEND;TZID=Australia/Brisbane:20210213T113000
DTSTAMP:20210223T173454
CREATED:20201001T101746Z
LAST-MODIFIED:20201001T101746Z
UID:5719-1613203200-1613215800@brisbanearchery.org.au
SUMMARY:Come & Try
DESCRIPTION:Booking in advance is essential. Click for details & to register. \nNo indoor coaching owing to Come & Try Course.
URL:https://brisbanearchery.org.au/events/come-try/
END:VEVENT
BEGIN:VEVENT
DTSTART;TZID=Australia/Brisbane:20210213T100000
DTEND;TZID=Australia/Brisbane:20210213T100000
DTSTAMP:20210223T173454
CREATED:20201004T113842Z
LAST-MODIFIED:20201004T113842Z
UID:5864-1613210400-1613210400@brisbanearchery.org.au
SUMMARY:Roo Shoot
DESCRIPTION:Be there by 9.45am.
URL:https://brisbanearchery.org.au/events/roo-shoot-22/
END:VEVENT
BEGIN:VEVENT
DTSTART;TZID=Australia/Brisbane:20210213T123000
DTEND;TZID=Australia/Brisbane:20210213T123000
DTSTAMP:20210223T173454
CREATED:20200930T115019Z
LAST-MODIFIED:20201212T103837Z
UID:5649-1613219400-1613219400@brisbanearchery.org.au
SUMMARY:Club Shoot
DESCRIPTION:Canberra\, Short Canberra\, Junior Canberra\, Geelong\, Newcastle.  Be there by 12.00noon.  Click for details and to register. \n\n\n\n\n	Canberra - 30 arrows at each of three distances (60\, 50\, 40m) on a 122cm target – 90 arrows total\n\n\n	Short Canberra - 30 arrows at each of three distances (50\, 40\, 30m) on a 122cm target – 90 arrows total\n\n\n	Junior Canberra - 30 arrows at each of three distances (40\, 30\, 20m) on a 122cm target – 90 arrows total\n\n\n	Geelong - 90 arrows at 30m on a 122cm target face – 90 arrows total\n\n\n	Newcastle – (the novice shoot for beginners) 90 arrows at 20m on a 122cm target face – 90 arrows total
URL:https://brisbanearchery.org.au/events/club-shoot-37/
END:VEVENT
BEGIN:VEVENT
DTSTART;VALUE=DATE:20210214
DTEND;VALUE=DATE:20210215
DTSTAMP:20210223T173454
CREATED:20201006T054948Z
LAST-MODIFIED:20201023T104213Z
UID:6043-1613260800-1613347199@brisbanearchery.org.au
SUMMARY:SQAS 2021 Youth Selection Event
DESCRIPTION:Hosted by Samford Valley Target Archers.  Double 720 rounds.  Starting time TBA. \n\n\n\n\n	WA 70/720 – 72 arrows at 70m on a 122cm target\n\n\n	WA 60/720 – 72 arrows at 60m on a 122cm target\n\n\n	WA 50/720 (compound) – 72 arrows at 50m on an 80cm target\n\n\n	AA 50/720 – 72 arrows at 50m on a 122cm target\n\n\n	AA 40/720 – 72 arrows at 40m on a 122cm target\n\n\n	AA 30/720 – 72 arrows at 30m on a 122cm target\n\n\n	\n\n\n\n\n 
URL:https://brisbanearchery.org.au/events/sqas-2020-youth-selection-event/
END:VEVENT
BEGIN:VEVENT
DTSTART;TZID=Australia/Brisbane:20210216T190000
DTEND;TZID=Australia/Brisbane:20210216T203000
DTSTAMP:20210223T173454
CREATED:20200920T114301Z
LAST-MODIFIED:20200920T114301Z
UID:5450-1613502000-1613507400@brisbanearchery.org.au
SUMMARY:Tuesday Night Indoor - 18m  QRE
DESCRIPTION:Be there by 6.30pm.  Practice starts at 6.45pm.  Click for details & to register.  18m WA Indoor – 60 arrows total.
URL:https://brisbanearchery.org.au/events/tuesday-night-indoor-18m-qre-7/
END:VEVENT
BEGIN:VEVENT
DTSTART;TZID=Australia/Brisbane:20210218T070000
DTEND;TZID=Australia/Brisbane:20210218T203000
DTSTAMP:20210223T173454
CREATED:20200920T124618Z
LAST-MODIFIED:20200920T124618Z
UID:5528-1613631600-1613680200@brisbanearchery.org.au
SUMMARY:Thursday Night Indoor - 18m
DESCRIPTION:Be there by 6.45pm.  Click for details & to register.  2 x 18m Australian (Vegas) Indoor – 60 arrows total.
URL:https://brisbanearchery.org.au/events/thursday-night-indoor-18m-25/
END:VEVENT
BEGIN:VEVENT
DTSTART;VALUE=DATE:20210220
DTEND;VALUE=DATE:20210221
DTSTAMP:20210223T173454
CREATED:20201006T051434Z
LAST-MODIFIED:20201006T051434Z
UID:6030-1613779200-1613865599@brisbanearchery.org.au
SUMMARY:No Roo Shoot
DESCRIPTION:No Roo Shoot owing to Silver Arrow Target  #1.
URL:https://brisbanearchery.org.au/events/no-roo-shoot-10/
END:VEVENT
BEGIN:VEVENT
DTSTART;TZID=Australia/Brisbane:20210220T093000
DTEND;TZID=Australia/Brisbane:20210220T110000
DTSTAMP:20210223T173454
CREATED:20201004T071957Z
LAST-MODIFIED:20201004T071957Z
UID:5794-1613813400-1613818800@brisbanearchery.org.au
SUMMARY:Indoor Coaching
DESCRIPTION:
URL:https://brisbanearchery.org.au/events/indoor-coaching-22/
END:VEVENT
BEGIN:VEVENT
DTSTART;TZID=Australia/Brisbane:20210220T100000
DTEND;TZID=Australia/Brisbane:20210220T100000
DTSTAMP:20210223T173454
CREATED:20201001T104048Z
LAST-MODIFIED:20201001T104048Z
UID:5736-1613815200-1613815200@brisbanearchery.org.au
SUMMARY:Club Shoot.  Silver Arrow Target #1
DESCRIPTION:Silver Arrow Target #1.  Double 720 round\, Tucker.  Be there by 9.30am.  Click for details & to register. \n\n\n\n\n	2 x WA 70/720 – 72 arrows at 70m on a 122cm target - 144 arrows total\n\n\n	2 x WA 60/720 – 72 arrows at 60m on a 122cm target - 144 arrows total\n\n\n	2 x WA 50/720 (compound) – 72 arrows at 50m on an 80cm target - 144 arrows total\n\n\n	2 x AA 50/720 – 72 arrows at 50m on a 122cm target - 144 arrows total\n\n\n	2 x AA 40/720 – 72 arrows at 40m on a 122cm target - 144 arrows total\n\n\n	2 x AA 30/720 – 72 arrows at 30m on a 122cm target - 144 arrows total\n\n\n	2 x Tucker – 72 arrows at 20m on a 122cm target.  Not eligible for Silver Arrow
URL:https://brisbanearchery.org.au/events/club-shoot-silver-arrow-target-1/
END:VEVENT
BEGIN:VEVENT
DTSTART;TZID=Australia/Brisbane:20210223T190000
DTEND;TZID=Australia/Brisbane:20210223T203000
DTSTAMP:20210223T173454
CREATED:20200920T074318Z
LAST-MODIFIED:20200920T074408Z
UID:5400-1614106800-1614112200@brisbanearchery.org.au
SUMMARY:Tuesday Night Indoor - 18m
DESCRIPTION:Be there by 6.45pm.  Click for details & to register.  2 x 18m Australian (Vegas) Indoor – 60 arrows total.
URL:https://brisbanearchery.org.au/events/tuesday-night-indoor-18m-22/
END:VEVENT
BEGIN:VEVENT
DTSTART;TZID=Australia/Brisbane:20210225T070000
DTEND;TZID=Australia/Brisbane:20210225T203000
DTSTAMP:20210223T173454
CREATED:20200920T124643Z
LAST-MODIFIED:20200920T124643Z
UID:5530-1614236400-1614285000@brisbanearchery.org.au
SUMMARY:Thursday Night Indoor - 18m
DESCRIPTION:Be there by 6.45pm.  Click for details & to register.  2 x 18m Australian (Vegas) Indoor – 60 arrows total.
URL:https://brisbanearchery.org.au/events/thursday-night-indoor-18m-27/
END:VEVENT
BEGIN:VEVENT
DTSTART;TZID=Australia/Brisbane:20210227T093000
DTEND;TZID=Australia/Brisbane:20210227T110000
DTSTAMP:20210223T173454
CREATED:20201004T072035Z
LAST-MODIFIED:20201004T072035Z
UID:5796-1614418200-1614423600@brisbanearchery.org.au
SUMMARY:Indoor Coaching
DESCRIPTION:
URL:https://brisbanearchery.org.au/events/indoor-coaching-23/
END:VEVENT
BEGIN:VEVENT
DTSTART;TZID=Australia/Brisbane:20210227T100000
DTEND;TZID=Australia/Brisbane:20210227T100000
DTSTAMP:20210223T173454
CREATED:20201004T114738Z
LAST-MODIFIED:20201004T114738Z
UID:5866-1614420000-1614420000@brisbanearchery.org.au
SUMMARY:Roo Shoot
DESCRIPTION:Be there by 9.45am.
URL:https://brisbanearchery.org.au/events/roo-shoot-23/
END:VEVENT
BEGIN:VEVENT
DTSTART;TZID=Australia/Brisbane:20210227T123000
DTEND;TZID=Australia/Brisbane:20210227T123000
DTSTAMP:20210223T173454
CREATED:20201001T073721Z
LAST-MODIFIED:20201212T105236Z
UID:5693-1614429000-1614429000@brisbanearchery.org.au
SUMMARY:Club Shoot
DESCRIPTION:Hobart\, Perth\, Canberra\, Short Canberra\, Junior Canberra\, Geelong\, Newcastle.  Be there by 12.00noon.  Click for details & to register. \n\n\n\n\n	Hobart - 30 arrows at each of three distances (90\, 70\, 60m) on a 122cm target - 90 arrows total \n\n\n	Perth - 30 arrows at each of three distances (70\, 60\, 50m) on a 122cm target - 90 arrows total\n\n\n	Canberra - 30 arrows at each of three distances (60\, 50\, 40m) on a 122cm target - 90 arrows total\n\n\n	Short Canberra - 30 arrows at each of three distances (50\, 40\, 30m) on a 122cm target - 90 arrows total\n\n\n	Junior Canberra - 30 arrows at each of three distances (40\, 30\, 20m) on a 122cm target - 90 arrows total\n\n\n	Geelong - 90 arrows at 30m on a 122cm target\n\n\n	Newcastle (the novice shoot) - 90 arrows at 20m on a nice generous 122cm target
URL:https://brisbanearchery.org.au/events/club-shoot-51/
END:VEVENT
END:VCALENDAR