BEGIN:VCALENDAR
VERSION:2.0
PRODID:-//Mount Petrie Bowmen - ECPv6.15.18//NONSGML v1.0//EN
CALSCALE:GREGORIAN
METHOD:PUBLISH
X-WR-CALNAME:Mount Petrie Bowmen
X-ORIGINAL-URL:https://brisbanearchery.org.au
X-WR-CALDESC:Events for Mount Petrie Bowmen
REFRESH-INTERVAL;VALUE=DURATION:PT1H
X-Robots-Tag:noindex
X-PUBLISHED-TTL:PT1H
BEGIN:VTIMEZONE
TZID:Australia/Brisbane
BEGIN:STANDARD
TZOFFSETFROM:+1000
TZOFFSETTO:+1000
TZNAME:AEST
DTSTART:20250101T000000
END:STANDARD
END:VTIMEZONE
BEGIN:VEVENT
DTSTART;VALUE=DATE:20260308
DTEND;VALUE=DATE:20260309
DTSTAMP:20260422T162957
CREATED:20251212T122745Z
LAST-MODIFIED:20260123T082836Z
UID:12433-1772928000-1773014399@brisbanearchery.org.au
SUMMARY:SQAS Field Championships & WA Arrowhead - SCAC
DESCRIPTION:Check entry form closer to the time for details and to register. \n\n\n\n\n\n\n\n\nGo to “Who Shoots What” to learn what distances you need to shoot.  24 targets\, 72 arrows total.
URL:https://brisbanearchery.org.au/events/sqas-field-championships-tbc/
END:VEVENT
END:VCALENDAR