BEGIN:VCALENDAR
VERSION:2.0
PRODID:-//Mount Petrie Bowmen - ECPv6.15.18//NONSGML v1.0//EN
CALSCALE:GREGORIAN
METHOD:PUBLISH
X-WR-CALNAME:Mount Petrie Bowmen
X-ORIGINAL-URL:https://brisbanearchery.org.au
X-WR-CALDESC:Events for Mount Petrie Bowmen
REFRESH-INTERVAL;VALUE=DURATION:PT1H
X-Robots-Tag:noindex
X-PUBLISHED-TTL:PT1H
BEGIN:VTIMEZONE
TZID:Australia/Brisbane
BEGIN:STANDARD
TZOFFSETFROM:+1000
TZOFFSETTO:+1000
TZNAME:AEST
DTSTART:20250101T000000
END:STANDARD
END:VTIMEZONE
BEGIN:VEVENT
DTSTART;VALUE=DATE:20260131
DTEND;VALUE=DATE:20260201
DTSTAMP:20260422T022511
CREATED:20251025T125843Z
LAST-MODIFIED:20251025T125843Z
UID:12130-1769817600-1769903999@brisbanearchery.org.au
SUMMARY:Target QRE - SCAC
DESCRIPTION:720 Double Target QRE. \nHosted by Sunshine Coast Archery Club.   Check entry form closer to the time for details and to register.
URL:https://brisbanearchery.org.au/events/target-qre-scac/
END:VEVENT
BEGIN:VEVENT
DTSTART;TZID=Australia/Brisbane:20260131T080000
DTEND;TZID=Australia/Brisbane:20260131T093000
DTSTAMP:20260422T022511
CREATED:20251025T123103Z
LAST-MODIFIED:20251025T123103Z
UID:12100-1769846400-1769851800@brisbanearchery.org.au
SUMMARY:Indoor Coaching
DESCRIPTION:
URL:https://brisbanearchery.org.au/events/indoor-coaching-99/
END:VEVENT
BEGIN:VEVENT
DTSTART;TZID=Australia/Brisbane:20260131T080000
DTEND;TZID=Australia/Brisbane:20260131T093000
DTSTAMP:20260422T022511
CREATED:20251025T123152Z
LAST-MODIFIED:20251025T123152Z
UID:12102-1769846400-1769851800@brisbanearchery.org.au
SUMMARY:Outdoor Coaching
DESCRIPTION:
URL:https://brisbanearchery.org.au/events/outdoor-coaching-74/
END:VEVENT
BEGIN:VEVENT
DTSTART;TZID=Australia/Brisbane:20260131T100000
DTEND;TZID=Australia/Brisbane:20260131T100000
DTSTAMP:20260422T022511
CREATED:20251025T120855Z
LAST-MODIFIED:20260104T055626Z
UID:12071-1769853600-1769853600@brisbanearchery.org.au
SUMMARY:Club Shoot
DESCRIPTION:Grange\, Melbourne\, Darwin\, Geelong\, Newcastle.  Be there by 9.30am.  Click for details & to register. \n\n\n\n\n	Grange – 90 arrows at 60m on a 122cm target\n\n\n	Melbourne – 90 arrows at 50m on a 122cm target\n\n\n	Darwin – 90 arrows at 40m on a 122cm target\n\n\n	Geelong – 90 arrows at 30m on a 122cm target\n\n\n	Newcastle – (the novice shoot) 90 arrows at 20m on a 122cm target
URL:https://brisbanearchery.org.au/events/club-shoot-97/
END:VEVENT
END:VCALENDAR