BEGIN:VCALENDAR
VERSION:2.0
PRODID:-//Mount Petrie Bowmen - ECPv6.15.18//NONSGML v1.0//EN
CALSCALE:GREGORIAN
METHOD:PUBLISH
X-ORIGINAL-URL:https://brisbanearchery.org.au
X-WR-CALDESC:Events for Mount Petrie Bowmen
REFRESH-INTERVAL;VALUE=DURATION:PT1H
X-Robots-Tag:noindex
X-PUBLISHED-TTL:PT1H
BEGIN:VTIMEZONE
TZID:Australia/Brisbane
BEGIN:STANDARD
TZOFFSETFROM:+1000
TZOFFSETTO:+1000
TZNAME:AEST
DTSTART:20240101T000000
END:STANDARD
END:VTIMEZONE
BEGIN:VEVENT
DTSTART;VALUE=DATE:20250301
DTEND;VALUE=DATE:20250302
DTSTAMP:20260422T020137
CREATED:20241102T104040Z
LAST-MODIFIED:20241102T104040Z
UID:11074-1740787200-1740873599@brisbanearchery.org.au
SUMMARY:No Outdoor Coaching
DESCRIPTION:
URL:https://brisbanearchery.org.au/events/no-outdoor-coaching-27/
END:VEVENT
BEGIN:VEVENT
DTSTART;VALUE=DATE:20250301
DTEND;VALUE=DATE:20250302
DTSTAMP:20260422T020137
CREATED:20241102T104915Z
LAST-MODIFIED:20241102T104915Z
UID:11098-1740787200-1740873599@brisbanearchery.org.au
SUMMARY:No Indoor Coaching
DESCRIPTION:
URL:https://brisbanearchery.org.au/events/no-indoor-coaching-29/
END:VEVENT
BEGIN:VEVENT
DTSTART;VALUE=DATE:20250301
DTEND;VALUE=DATE:20250302
DTSTAMP:20260422T020137
CREATED:20250221T060655Z
LAST-MODIFIED:20250221T060655Z
UID:11558-1740787200-1740873599@brisbanearchery.org.au
SUMMARY:SQAS Field QRE
DESCRIPTION:Check entry form closer to the time for details and to register.   Muster at MPB Clubhouse. \n\n\n\n\n\n\n\n\nGo to “Who Shoots What” to learn what distances you need to shoot.  24 targets\, 72 arrows total.
URL:https://brisbanearchery.org.au/events/sqas-field-qre-4/
END:VEVENT
BEGIN:VEVENT
DTSTART;TZID=Australia/Brisbane:20250301T080000
DTEND;TZID=Australia/Brisbane:20250301T080000
DTSTAMP:20260422T020137
CREATED:20241015T105640Z
LAST-MODIFIED:20241015T112213Z
UID:10623-1740816000-1740816000@brisbanearchery.org.au
SUMMARY:Archery Certificate Course
DESCRIPTION:No indoor shooting owing to Archery Certificate Course.
URL:https://brisbanearchery.org.au/events/archery-certificate-course-2/
END:VEVENT
BEGIN:VEVENT
DTSTART;TZID=Australia/Brisbane:20250301T123000
DTEND;TZID=Australia/Brisbane:20250301T123000
DTSTAMP:20260422T020137
CREATED:20241028T111815Z
LAST-MODIFIED:20241220T011142Z
UID:11012-1740832200-1740832200@brisbanearchery.org.au
SUMMARY:Club Shoot
DESCRIPTION:Holt\, Samford\, Drake\, Geelong\, Newcastle.  Be there by 12.00noon.  Click for details & to register. \n\n\n\n\n	Holt - 90 arrows at 50m on an 80cm target\n\n\n	Samford - 90 arrows at 40m on an 80cm target\n\n\n	Drake - 90 arrows at 30m on an 80cm target\n\n\n	Geelong - 90 arrows at 30m on a 122cm target\n\n\n	Newcastle (the novice shoot) - 90 arrows at 20m on a 122cm target
URL:https://brisbanearchery.org.au/events/club-shoot-19/
END:VEVENT
END:VCALENDAR