BEGIN:VCALENDAR
VERSION:2.0
PRODID:-//Mount Petrie Bowmen - ECPv6.15.18//NONSGML v1.0//EN
CALSCALE:GREGORIAN
METHOD:PUBLISH
X-ORIGINAL-URL:https://brisbanearchery.org.au
X-WR-CALDESC:Events for Mount Petrie Bowmen
REFRESH-INTERVAL;VALUE=DURATION:PT1H
X-Robots-Tag:noindex
X-PUBLISHED-TTL:PT1H
BEGIN:VTIMEZONE
TZID:Australia/Brisbane
BEGIN:STANDARD
TZOFFSETFROM:+1000
TZOFFSETTO:+1000
TZNAME:AEST
DTSTART:20230101T000000
END:STANDARD
END:VTIMEZONE
BEGIN:VEVENT
DTSTART;TZID=Australia/Brisbane:20240928T080000
DTEND;TZID=Australia/Brisbane:20240928T093000
DTSTAMP:20260422T150704
CREATED:20211022T074647Z
LAST-MODIFIED:20231103T123003Z
UID:7868-1727510400-1727515800@brisbanearchery.org.au
SUMMARY:Indoor Coaching
DESCRIPTION:
URL:https://brisbanearchery.org.au/events/indoor-coaching-56/
END:VEVENT
BEGIN:VEVENT
DTSTART;TZID=Australia/Brisbane:20240928T080000
DTEND;TZID=Australia/Brisbane:20240928T093000
DTSTAMP:20260422T150704
CREATED:20231030T114046Z
LAST-MODIFIED:20231030T114046Z
UID:9863-1727510400-1727515800@brisbanearchery.org.au
SUMMARY:Outdoor Coaching
DESCRIPTION:
URL:https://brisbanearchery.org.au/events/outdoor-coaching-35/
END:VEVENT
BEGIN:VEVENT
DTSTART;TZID=Australia/Brisbane:20240928T093000
DTEND;TZID=Australia/Brisbane:20240928T093000
DTSTAMP:20260422T150704
CREATED:20231030T104007Z
LAST-MODIFIED:20231102T122519Z
UID:9783-1727515800-1727515800@brisbanearchery.org.au
SUMMARY:Club Shoot
DESCRIPTION:Target QRE – 720 Rounds – Single Round.  Members wanting to compete officially in the QRE must check the entry form on the SQAS website closer to the time for details and to register. \nMembers who do not want to shoot the QRE may practice independently.  Please set up away from the QRE shooters.
URL:https://brisbanearchery.org.au/events/target-qre-720-rounds-single-round-13/
END:VEVENT
END:VCALENDAR