BEGIN:VCALENDAR
VERSION:2.0
PRODID:-//Mount Petrie Bowmen - ECPv6.15.18//NONSGML v1.0//EN
CALSCALE:GREGORIAN
METHOD:PUBLISH
X-WR-CALNAME:Mount Petrie Bowmen
X-ORIGINAL-URL:https://brisbanearchery.org.au
X-WR-CALDESC:Events for Mount Petrie Bowmen
REFRESH-INTERVAL;VALUE=DURATION:PT1H
X-Robots-Tag:noindex
X-PUBLISHED-TTL:PT1H
BEGIN:VTIMEZONE
TZID:Australia/Brisbane
BEGIN:STANDARD
TZOFFSETFROM:+1000
TZOFFSETTO:+1000
TZNAME:AEST
DTSTART:20230101T000000
END:STANDARD
END:VTIMEZONE
BEGIN:VEVENT
DTSTART;VALUE=DATE:20240921
DTEND;VALUE=DATE:20240922
DTSTAMP:20260425T062942
CREATED:20231031T040336Z
LAST-MODIFIED:20240918T033354Z
UID:9913-1726876800-1726963199@brisbanearchery.org.au
SUMMARY:No Outdoor Coaching
DESCRIPTION:No outdoor coaching owing to Donna Miles Memorial Shoot preparations.
URL:https://brisbanearchery.org.au/events/no-outdoor-coaching-23/
END:VEVENT
BEGIN:VEVENT
DTSTART;VALUE=DATE:20240921
DTEND;VALUE=DATE:20240922
DTSTAMP:20260425T062942
CREATED:20231031T040450Z
LAST-MODIFIED:20240918T033806Z
UID:9915-1726876800-1726963199@brisbanearchery.org.au
SUMMARY:Indoor Coaching
DESCRIPTION:
URL:https://brisbanearchery.org.au/events/no-indoor-coaching-10/
END:VEVENT
END:VCALENDAR