BEGIN:VCALENDAR
VERSION:2.0
PRODID:-//Mount Petrie Bowmen - ECPv6.15.18//NONSGML v1.0//EN
CALSCALE:GREGORIAN
METHOD:PUBLISH
X-ORIGINAL-URL:https://brisbanearchery.org.au
X-WR-CALDESC:Events for Mount Petrie Bowmen
REFRESH-INTERVAL;VALUE=DURATION:PT1H
X-Robots-Tag:noindex
X-PUBLISHED-TTL:PT1H
BEGIN:VTIMEZONE
TZID:Australia/Brisbane
BEGIN:STANDARD
TZOFFSETFROM:+1000
TZOFFSETTO:+1000
TZNAME:AEST
DTSTART:20230101T000000
END:STANDARD
END:VTIMEZONE
BEGIN:VEVENT
DTSTART;TZID=Australia/Brisbane:20240914T080000
DTEND;TZID=Australia/Brisbane:20240914T093000
DTSTAMP:20260422T150654
CREATED:20211029T122716Z
LAST-MODIFIED:20231030T051210Z
UID:7935-1726300800-1726306200@brisbanearchery.org.au
SUMMARY:Indoor Coaching
DESCRIPTION:
URL:https://brisbanearchery.org.au/events/indoor-coaching-61/
END:VEVENT
BEGIN:VEVENT
DTSTART;TZID=Australia/Brisbane:20240914T080000
DTEND;TZID=Australia/Brisbane:20240914T093000
DTSTAMP:20260422T150654
CREATED:20231030T113913Z
LAST-MODIFIED:20231030T113913Z
UID:9861-1726300800-1726306200@brisbanearchery.org.au
SUMMARY:Outdoor Coaching
DESCRIPTION:
URL:https://brisbanearchery.org.au/events/outdoor-coaching-34/
END:VEVENT
BEGIN:VEVENT
DTSTART;TZID=Australia/Brisbane:20240914T100000
DTEND;TZID=Australia/Brisbane:20240914T100000
DTSTAMP:20260422T150654
CREATED:20211021T121234Z
LAST-MODIFIED:20231103T122503Z
UID:7308-1726308000-1726308000@brisbanearchery.org.au
SUMMARY:Club Shoot
DESCRIPTION:Field Club Championship #2.  Be there by 9.30am.  Click for details & to register. \nGo to “Who Shoots What” to learn what distances you need to shoot.  24 targets\, 72 arrows total.
URL:https://brisbanearchery.org.au/events/club-shoot-field-club-championship-2-3/
END:VEVENT
END:VCALENDAR