BEGIN:VCALENDAR
VERSION:2.0
PRODID:-//Mount Petrie Bowmen - ECPv6.15.18//NONSGML v1.0//EN
CALSCALE:GREGORIAN
METHOD:PUBLISH
X-WR-CALNAME:Mount Petrie Bowmen
X-ORIGINAL-URL:https://brisbanearchery.org.au
X-WR-CALDESC:Events for Mount Petrie Bowmen
REFRESH-INTERVAL;VALUE=DURATION:PT1H
X-Robots-Tag:noindex
X-PUBLISHED-TTL:PT1H
BEGIN:VTIMEZONE
TZID:Australia/Brisbane
BEGIN:STANDARD
TZOFFSETFROM:+1000
TZOFFSETTO:+1000
TZNAME:AEST
DTSTART:20230101T000000
END:STANDARD
END:VTIMEZONE
BEGIN:VEVENT
DTSTART;VALUE=DATE:20240907
DTEND;VALUE=DATE:20240908
DTSTAMP:20260422T150556
CREATED:20211020T125009Z
LAST-MODIFIED:20231029T122002Z
UID:7669-1725667200-1725753599@brisbanearchery.org.au
SUMMARY:No Indoor Coaching
DESCRIPTION:No indoor coaching owing to Archery Certificate Course.
URL:https://brisbanearchery.org.au/events/no-indoor-coaching/
END:VEVENT
BEGIN:VEVENT
DTSTART;VALUE=DATE:20240907
DTEND;VALUE=DATE:20240908
DTSTAMP:20260422T150556
CREATED:20231030T110504Z
LAST-MODIFIED:20231030T110504Z
UID:9803-1725667200-1725753599@brisbanearchery.org.au
SUMMARY:No Outdoor Coaching
DESCRIPTION:
URL:https://brisbanearchery.org.au/events/no-outdoor-coaching-14/
END:VEVENT
BEGIN:VEVENT
DTSTART;TZID=Australia/Brisbane:20240907T080000
DTEND;TZID=Australia/Brisbane:20240907T133000
DTSTAMP:20260422T150556
CREATED:20210830T123623Z
LAST-MODIFIED:20231029T122045Z
UID:6813-1725696000-1725715800@brisbanearchery.org.au
SUMMARY:Archery Certificate Course
DESCRIPTION:No indoor coaching owing to Archery Certificate Course.
URL:https://brisbanearchery.org.au/events/archery-certificate-course-13/
END:VEVENT
BEGIN:VEVENT
DTSTART;TZID=Australia/Brisbane:20240907T123000
DTEND;TZID=Australia/Brisbane:20240907T123000
DTSTAMP:20260422T150556
CREATED:20240603T004542Z
LAST-MODIFIED:20240603T004542Z
UID:10421-1725712200-1725712200@brisbanearchery.org.au
SUMMARY:World Archery Oceania Challenge
DESCRIPTION:Details available closer to the time.
URL:https://brisbanearchery.org.au/events/world-archery-oceania-challenge-3/
END:VEVENT
END:VCALENDAR