BEGIN:VCALENDAR
VERSION:2.0
PRODID:-//Mount Petrie Bowmen - ECPv6.15.18//NONSGML v1.0//EN
CALSCALE:GREGORIAN
METHOD:PUBLISH
X-WR-CALNAME:Mount Petrie Bowmen
X-ORIGINAL-URL:https://brisbanearchery.org.au
X-WR-CALDESC:Events for Mount Petrie Bowmen
REFRESH-INTERVAL;VALUE=DURATION:PT1H
X-Robots-Tag:noindex
X-PUBLISHED-TTL:PT1H
BEGIN:VTIMEZONE
TZID:Australia/Brisbane
BEGIN:STANDARD
TZOFFSETFROM:+1000
TZOFFSETTO:+1000
TZNAME:AEST
DTSTART:20230101T000000
END:STANDARD
END:VTIMEZONE
BEGIN:VEVENT
DTSTART;VALUE=DATE:20240824
DTEND;VALUE=DATE:20240825
DTSTAMP:20260425T062059
CREATED:20211020T130337Z
LAST-MODIFIED:20231029T111509Z
UID:7291-1724457600-1724543999@brisbanearchery.org.au
SUMMARY:Archery Queensland Target Championship - TBA
DESCRIPTION:Check entry form closer to the time for details and to register.
URL:https://brisbanearchery.org.au/events/archery-queensland-target-championship/
END:VEVENT
BEGIN:VEVENT
DTSTART;TZID=Australia/Brisbane:20240824T080000
DTEND;TZID=Australia/Brisbane:20240824T093000
DTSTAMP:20260425T062059
CREATED:20211020T124407Z
LAST-MODIFIED:20231029T123542Z
UID:7678-1724486400-1724491800@brisbanearchery.org.au
SUMMARY:Indoor Coaching
DESCRIPTION:
URL:https://brisbanearchery.org.au/events/indoor-coaching-2/
END:VEVENT
BEGIN:VEVENT
DTSTART;TZID=Australia/Brisbane:20240824T080000
DTEND;TZID=Australia/Brisbane:20240824T093000
DTSTAMP:20260425T062059
CREATED:20231030T113733Z
LAST-MODIFIED:20231030T113733Z
UID:9857-1724486400-1724491800@brisbanearchery.org.au
SUMMARY:Outdoor Coaching
DESCRIPTION:
URL:https://brisbanearchery.org.au/events/outdoor-coaching-32/
END:VEVENT
BEGIN:VEVENT
DTSTART;TZID=Australia/Brisbane:20240824T100000
DTEND;TZID=Australia/Brisbane:20240824T100000
DTSTAMP:20260425T062059
CREATED:20231030T121903Z
LAST-MODIFIED:20231030T121903Z
UID:9896-1724493600-1724493600@brisbanearchery.org.au
SUMMARY:Club Shoot
DESCRIPTION:Canberra\, Short Canberra\, Junior Canberra\, Mini Canberra\, Newcastle.  Be there by 9.30am.  Click for details & to register. \n\n\n\n\n	Canberra - 30 arrows at each of three distances (60\, 50\, 40m) on a 122cm target – 90 arrows total\n\n\n	Short Canberra - 30 arrows at each of three distances (50\, 40\, 30m) on a 122cm target – 90 arrows total\n\n\n	Junior Canberra - 30 arrows at each of three distances (40\, 30\, 20m) on a 122cm target – 90 arrows total\n\n\n	Mini Canberra - 30 arrows at each of three distances (30\, 20\, 10m) on a 122cm target - 90 arrows total\n\n\n	Newcastle – (the novice shoot for beginners) 90 arrows at 20m on a 122cm target face – 90 arrows total
URL:https://brisbanearchery.org.au/events/club-shoot-2/
END:VEVENT
END:VCALENDAR