BEGIN:VCALENDAR
VERSION:2.0
PRODID:-//Mount Petrie Bowmen - ECPv6.15.18//NONSGML v1.0//EN
CALSCALE:GREGORIAN
METHOD:PUBLISH
X-WR-CALNAME:Mount Petrie Bowmen
X-ORIGINAL-URL:https://brisbanearchery.org.au
X-WR-CALDESC:Events for Mount Petrie Bowmen
REFRESH-INTERVAL;VALUE=DURATION:PT1H
X-Robots-Tag:noindex
X-PUBLISHED-TTL:PT1H
BEGIN:VTIMEZONE
TZID:Australia/Brisbane
BEGIN:STANDARD
TZOFFSETFROM:+1000
TZOFFSETTO:+1000
TZNAME:AEST
DTSTART:20230101T000000
END:STANDARD
END:VTIMEZONE
BEGIN:VEVENT
DTSTART;VALUE=DATE:20240804
DTEND;VALUE=DATE:20240805
DTSTAMP:20260422T165733
CREATED:20211021T122034Z
LAST-MODIFIED:20231029T113435Z
UID:7295-1722729600-1722815999@brisbanearchery.org.au
SUMMARY:Silver Arrow Field #2 & QRE
DESCRIPTION:Check entry form closer to the time for details and to register.   Muster at MPB Clubhouse. \n\n\n\n\n\n\n\n\nGo to “Who Shoots What” to learn what distances you need to shoot.  24 targets\, 72 arrows total.
URL:https://brisbanearchery.org.au/events/club-shoot-silver-arrow-field-2-qre/
END:VEVENT
BEGIN:VEVENT
DTSTART;TZID=Australia/Brisbane:20240804T100000
DTEND;TZID=Australia/Brisbane:20240804T140000
DTSTAMP:20260422T165733
CREATED:20231106T000040Z
LAST-MODIFIED:20231106T000040Z
UID:9763-1722765600-1722780000@brisbanearchery.org.au
SUMMARY:Clout Practice Day - MPB
DESCRIPTION:All SQAS members welcome to practice clout 10.00am – 2.00pm.
URL:https://brisbanearchery.org.au/events/clout-practice-day-mpb/
LOCATION:Belmont Shooting Complex (MPB)\, Archery Rd\, Belmont\, QLD\, 4153\, Australia
END:VEVENT
END:VCALENDAR