BEGIN:VCALENDAR
VERSION:2.0
PRODID:-//Mount Petrie Bowmen - ECPv6.15.18//NONSGML v1.0//EN
CALSCALE:GREGORIAN
METHOD:PUBLISH
X-ORIGINAL-URL:https://brisbanearchery.org.au
X-WR-CALDESC:Events for Mount Petrie Bowmen
REFRESH-INTERVAL;VALUE=DURATION:PT1H
X-Robots-Tag:noindex
X-PUBLISHED-TTL:PT1H
BEGIN:VTIMEZONE
TZID:Australia/Brisbane
BEGIN:STANDARD
TZOFFSETFROM:+1000
TZOFFSETTO:+1000
TZNAME:AEST
DTSTART:20230101T000000
END:STANDARD
END:VTIMEZONE
BEGIN:VEVENT
DTSTART;TZID=Australia/Brisbane:20240727T080000
DTEND;TZID=Australia/Brisbane:20240727T093000
DTSTAMP:20260422T214019
CREATED:20211020T125156Z
LAST-MODIFIED:20231029T120456Z
UID:7666-1722067200-1722072600@brisbanearchery.org.au
SUMMARY:Indoor Coaching
DESCRIPTION:
URL:https://brisbanearchery.org.au/events/indoor-coaching-4/
END:VEVENT
BEGIN:VEVENT
DTSTART;TZID=Australia/Brisbane:20240727T080000
DTEND;TZID=Australia/Brisbane:20240727T093000
DTSTAMP:20260422T214019
CREATED:20231030T113214Z
LAST-MODIFIED:20231030T113319Z
UID:9851-1722067200-1722072600@brisbanearchery.org.au
SUMMARY:Outdoor Coaching
DESCRIPTION:
URL:https://brisbanearchery.org.au/events/outdoor-coaching-29/
END:VEVENT
BEGIN:VEVENT
DTSTART;TZID=Australia/Brisbane:20240727T100000
DTEND;TZID=Australia/Brisbane:20240727T100000
DTSTAMP:20260422T214019
CREATED:20231030T121759Z
LAST-MODIFIED:20231030T121759Z
UID:9894-1722074400-1722074400@brisbanearchery.org.au
SUMMARY:Club Shoot
DESCRIPTION:Canberra\, Short Canberra\, Junior Canberra\, Mini Canberra\, Newcastle.  Be there by 9.30am.  Click for details & to register. \n\n\n\n\n	Canberra - 30 arrows at each of three distances (60\, 50\, 40m) on a 122cm target – 90 arrows total\n\n\n	Short Canberra - 30 arrows at each of three distances (50\, 40\, 30m) on a 122cm target – 90 arrows total\n\n\n	Junior Canberra - 30 arrows at each of three distances (40\, 30\, 20m) on a 122cm target – 90 arrows total\n\n\n	Mini Canberra - 30 arrows at each of three distances (30\, 20\, 10m) on a 122cm target - 90 arrows total\n\n\n	Newcastle – (the novice shoot for beginners) 90 arrows at 20m on a 122cm target face – 90 arrows total
URL:https://brisbanearchery.org.au/events/club-shoot/
END:VEVENT
END:VCALENDAR