BEGIN:VCALENDAR
VERSION:2.0
PRODID:-//Mount Petrie Bowmen - ECPv6.15.18//NONSGML v1.0//EN
CALSCALE:GREGORIAN
METHOD:PUBLISH
X-WR-CALNAME:Mount Petrie Bowmen
X-ORIGINAL-URL:https://brisbanearchery.org.au
X-WR-CALDESC:Events for Mount Petrie Bowmen
REFRESH-INTERVAL;VALUE=DURATION:PT1H
X-Robots-Tag:noindex
X-PUBLISHED-TTL:PT1H
BEGIN:VTIMEZONE
TZID:Australia/Brisbane
BEGIN:STANDARD
TZOFFSETFROM:+1000
TZOFFSETTO:+1000
TZNAME:AEST
DTSTART:20230101T000000
END:STANDARD
END:VTIMEZONE
BEGIN:VEVENT
DTSTART;VALUE=DATE:20240713
DTEND;VALUE=DATE:20240714
DTSTAMP:20260423T005231
CREATED:20231030T121544Z
LAST-MODIFIED:20231030T121544Z
UID:9892-1720828800-1720915199@brisbanearchery.org.au
SUMMARY:No Indoor Coaching
DESCRIPTION:
URL:https://brisbanearchery.org.au/events/no-indoor-coaching-9/
END:VEVENT
BEGIN:VEVENT
DTSTART;TZID=Australia/Brisbane:20240713T080000
DTEND;TZID=Australia/Brisbane:20240713T093000
DTSTAMP:20260423T005231
CREATED:20231103T110509Z
LAST-MODIFIED:20231103T110509Z
UID:10046-1720857600-1720863000@brisbanearchery.org.au
SUMMARY:Outdoor Coaching
DESCRIPTION:
URL:https://brisbanearchery.org.au/events/outdoor-coaching-27/
END:VEVENT
BEGIN:VEVENT
DTSTART;TZID=Australia/Brisbane:20240713T100000
DTEND;TZID=Australia/Brisbane:20240713T100000
DTSTAMP:20260423T005231
CREATED:20211021T120833Z
LAST-MODIFIED:20231103T105929Z
UID:7283-1720864800-1720864800@brisbanearchery.org.au
SUMMARY:Club Shoot
DESCRIPTION:Silver Arrow Indoor #2 & Club Championship #2.  No indoor coaching.  Be there by 9.30am.  Click for details & to register. \n\n\n\n\n	1 x Double AA Indoor at 25 metres (60 arrows)\, and\n\n\n	1 x Double AA Indoor at 18 metres (60 arrows)
URL:https://brisbanearchery.org.au/events/club-shoot-silver-arrow-indoor-2-club-championship-2/
END:VEVENT
END:VCALENDAR