BEGIN:VCALENDAR
VERSION:2.0
PRODID:-//Mount Petrie Bowmen - ECPv6.15.18//NONSGML v1.0//EN
CALSCALE:GREGORIAN
METHOD:PUBLISH
X-ORIGINAL-URL:https://brisbanearchery.org.au
X-WR-CALDESC:Events for Mount Petrie Bowmen
REFRESH-INTERVAL;VALUE=DURATION:PT1H
X-Robots-Tag:noindex
X-PUBLISHED-TTL:PT1H
BEGIN:VTIMEZONE
TZID:Australia/Brisbane
BEGIN:STANDARD
TZOFFSETFROM:+1000
TZOFFSETTO:+1000
TZNAME:AEST
DTSTART:20230101T000000
END:STANDARD
END:VTIMEZONE
BEGIN:VEVENT
DTSTART;VALUE=DATE:20240629
DTEND;VALUE=DATE:20240630
DTSTAMP:20260422T230825
CREATED:20211020T130455Z
LAST-MODIFIED:20231029T105832Z
UID:7635-1719619200-1719705599@brisbanearchery.org.au
SUMMARY:No Indoor Coaching
DESCRIPTION:No indoor coaching owing to Archery Certificate Course.
URL:https://brisbanearchery.org.au/events/no-indoor-coaching-3/
END:VEVENT
BEGIN:VEVENT
DTSTART;VALUE=DATE:20240629
DTEND;VALUE=DATE:20240630
DTSTAMP:20260422T230825
CREATED:20231031T040128Z
LAST-MODIFIED:20231031T040128Z
UID:9911-1719619200-1719705599@brisbanearchery.org.au
SUMMARY:No Outdoor Coaching
DESCRIPTION:
URL:https://brisbanearchery.org.au/events/no-outdoor-coaching-22/
END:VEVENT
BEGIN:VEVENT
DTSTART;TZID=Australia/Brisbane:20240629T080000
DTEND;TZID=Australia/Brisbane:20240629T133000
DTSTAMP:20260422T230825
CREATED:20210830T123655Z
LAST-MODIFIED:20240422T055818Z
UID:6816-1719648000-1719667800@brisbanearchery.org.au
SUMMARY:Archery Certificate Course
DESCRIPTION:No indoor coaching owing to Archery Certificate Course.
URL:https://brisbanearchery.org.au/events/archery-certificate-course-14/
END:VEVENT
BEGIN:VEVENT
DTSTART;TZID=Australia/Brisbane:20240629T093000
DTEND;TZID=Australia/Brisbane:20240629T093000
DTSTAMP:20260422T230825
CREATED:20231030T103621Z
LAST-MODIFIED:20231102T122106Z
UID:9777-1719653400-1719653400@brisbanearchery.org.au
SUMMARY:Club Shoot
DESCRIPTION:Target QRE – 720 Rounds – Single Round.  Members wanting to compete officially in the QRE must check the entry form on the SQAS website closer to the time for details and to register. \nMembers who do not want to shoot the QRE may practice independently.  Please set up away from the QRE shooters.
URL:https://brisbanearchery.org.au/events/target-qre-720-rounds-single-round-10/
END:VEVENT
END:VCALENDAR