BEGIN:VCALENDAR
VERSION:2.0
PRODID:-//Mount Petrie Bowmen - ECPv6.15.18//NONSGML v1.0//EN
CALSCALE:GREGORIAN
METHOD:PUBLISH
X-ORIGINAL-URL:https://brisbanearchery.org.au
X-WR-CALDESC:Events for Mount Petrie Bowmen
REFRESH-INTERVAL;VALUE=DURATION:PT1H
X-Robots-Tag:noindex
X-PUBLISHED-TTL:PT1H
BEGIN:VTIMEZONE
TZID:Australia/Brisbane
BEGIN:STANDARD
TZOFFSETFROM:+1000
TZOFFSETTO:+1000
TZNAME:AEST
DTSTART:20230101T000000
END:STANDARD
END:VTIMEZONE
BEGIN:VEVENT
DTSTART;VALUE=DATE:20240622
DTEND;VALUE=DATE:20240623
DTSTAMP:20260422T232007
CREATED:20211204T120103Z
LAST-MODIFIED:20231027T113707Z
UID:8032-1719014400-1719100799@brisbanearchery.org.au
SUMMARY:Level 1 Coaching Course - MPB
DESCRIPTION:Hosted by Mount Petrie Bowmen.
URL:https://brisbanearchery.org.au/events/level-1-coaching-course-tbc/
END:VEVENT
BEGIN:VEVENT
DTSTART;TZID=Australia/Brisbane:20240622T080000
DTEND;TZID=Australia/Brisbane:20240622T093000
DTSTAMP:20260422T232007
CREATED:20211020T125323Z
LAST-MODIFIED:20231029T114856Z
UID:7661-1719043200-1719048600@brisbanearchery.org.au
SUMMARY:Indoor Coaching
DESCRIPTION:
URL:https://brisbanearchery.org.au/events/indoor-coaching-5/
END:VEVENT
BEGIN:VEVENT
DTSTART;TZID=Australia/Brisbane:20240622T080000
DTEND;TZID=Australia/Brisbane:20240622T093000
DTSTAMP:20260422T232007
CREATED:20231030T113116Z
LAST-MODIFIED:20231030T113116Z
UID:9849-1719043200-1719048600@brisbanearchery.org.au
SUMMARY:Outdoor Coaching
DESCRIPTION:
URL:https://brisbanearchery.org.au/events/outdoor-coaching-28/
END:VEVENT
BEGIN:VEVENT
DTSTART;TZID=Australia/Brisbane:20240622T100000
DTEND;TZID=Australia/Brisbane:20240622T100000
DTSTAMP:20260422T232007
CREATED:20211021T121253Z
LAST-MODIFIED:20231103T104028Z
UID:7305-1719050400-1719050400@brisbanearchery.org.au
SUMMARY:Club Shoot
DESCRIPTION:Silver Arrow Target #2.  Be there by 9.30am.  Click for details & to register. \n\n\n\n\n	Long Silver Arrow – 36 arrows at each of 70\, 60m 50\, 30m on a 122cm target - 144 arrows total\n\n\n	Short Silver Arrow – 36 arrows at each of 60\, 50\, 40\, 30m on a 122cm target - 144 arrows total\n\n\n	Junior Silver Arrow – 36 arrows at each of 50\, 40m\, 30m\, 20m on a 122cm target - 144 arrows total\n\n\n	Mini Silver Arrow – 36 arrows at 40m\, 30m\, 30m\, 20m on a 122cm target - 144 arrows total\n\n\n	First 12mts Silver Arrow – 36 arrows at each of 30\, 30m\, 20m\, 20m on an 122cm target - 144 arrows total
URL:https://brisbanearchery.org.au/events/club-shoot-silver-arrow-target-2-tucker/
END:VEVENT
END:VCALENDAR