BEGIN:VCALENDAR
VERSION:2.0
PRODID:-//Mount Petrie Bowmen - ECPv6.15.18//NONSGML v1.0//EN
CALSCALE:GREGORIAN
METHOD:PUBLISH
X-ORIGINAL-URL:https://brisbanearchery.org.au
X-WR-CALDESC:Events for Mount Petrie Bowmen
REFRESH-INTERVAL;VALUE=DURATION:PT1H
X-Robots-Tag:noindex
X-PUBLISHED-TTL:PT1H
BEGIN:VTIMEZONE
TZID:Australia/Brisbane
BEGIN:STANDARD
TZOFFSETFROM:+1000
TZOFFSETTO:+1000
TZNAME:AEST
DTSTART:20230101T000000
END:STANDARD
END:VTIMEZONE
BEGIN:VEVENT
DTSTART;VALUE=DATE:20240525
DTEND;VALUE=DATE:20240526
DTSTAMP:20260423T074719
CREATED:20211129T062621Z
LAST-MODIFIED:20231029T050630Z
UID:7973-1716595200-1716681599@brisbanearchery.org.au
SUMMARY:SQAS Regional Development Program Day - TBC
DESCRIPTION:
URL:https://brisbanearchery.org.au/events/sqas-regional-development-day-tbc-2/
END:VEVENT
BEGIN:VEVENT
DTSTART;TZID=Australia/Brisbane:20240525T080000
DTEND;TZID=Australia/Brisbane:20240525T093000
DTSTAMP:20260423T074719
CREATED:20211020T133152Z
LAST-MODIFIED:20231029T103614Z
UID:7618-1716624000-1716629400@brisbanearchery.org.au
SUMMARY:Indoor Coaching
DESCRIPTION:
URL:https://brisbanearchery.org.au/events/indoor-coaching-9/
END:VEVENT
BEGIN:VEVENT
DTSTART;TZID=Australia/Brisbane:20240525T080000
DTEND;TZID=Australia/Brisbane:20240525T093000
DTSTAMP:20260423T074719
CREATED:20231030T112621Z
LAST-MODIFIED:20231030T112649Z
UID:9841-1716624000-1716629400@brisbanearchery.org.au
SUMMARY:Outdoor Coaching
DESCRIPTION:
URL:https://brisbanearchery.org.au/events/outdoor-coaching-24/
END:VEVENT
BEGIN:VEVENT
DTSTART;TZID=Australia/Brisbane:20240525T093000
DTEND;TZID=Australia/Brisbane:20240525T093000
DTSTAMP:20260423T074719
CREATED:20231030T103453Z
LAST-MODIFIED:20231102T121908Z
UID:9775-1716629400-1716629400@brisbanearchery.org.au
SUMMARY:Club Shoot
DESCRIPTION:Target QRE – 720 Rounds – Single Round.  Members wanting to compete officially in the QRE must check the entry form on the SQAS website closer to the time for details and to register. \nMembers who do not want to shoot the QRE may practice independently.  Please set up away from the QRE shooters.
URL:https://brisbanearchery.org.au/events/target-qre-720-rounds-single-round-9/
END:VEVENT
END:VCALENDAR