BEGIN:VCALENDAR
VERSION:2.0
PRODID:-//Mount Petrie Bowmen - ECPv6.15.18//NONSGML v1.0//EN
CALSCALE:GREGORIAN
METHOD:PUBLISH
X-ORIGINAL-URL:https://brisbanearchery.org.au
X-WR-CALDESC:Events for Mount Petrie Bowmen
REFRESH-INTERVAL;VALUE=DURATION:PT1H
X-Robots-Tag:noindex
X-PUBLISHED-TTL:PT1H
BEGIN:VTIMEZONE
TZID:Australia/Brisbane
BEGIN:STANDARD
TZOFFSETFROM:+1000
TZOFFSETTO:+1000
TZNAME:AEST
DTSTART:20230101T000000
END:STANDARD
END:VTIMEZONE
BEGIN:VEVENT
DTSTART;TZID=Australia/Brisbane:20240521T190000
DTEND;TZID=Australia/Brisbane:20240521T190000
DTSTAMP:20260423T040208
CREATED:20211021T125721Z
LAST-MODIFIED:20231103T100710Z
UID:6898-1716318000-1716318000@brisbanearchery.org.au
SUMMARY:Tuesday Night Indoor - 18m  QRE
DESCRIPTION:Be there by 6.30pm.  Practice starts at 6.45pm.  18m WA Indoor – 60 arrows total.  Click for details & to register.
URL:https://brisbanearchery.org.au/events/tuesday-night-indoor-18m-qre/
END:VEVENT
END:VCALENDAR