BEGIN:VCALENDAR
VERSION:2.0
PRODID:-//Mount Petrie Bowmen - ECPv6.15.18//NONSGML v1.0//EN
CALSCALE:GREGORIAN
METHOD:PUBLISH
X-ORIGINAL-URL:https://brisbanearchery.org.au
X-WR-CALDESC:Events for Mount Petrie Bowmen
REFRESH-INTERVAL;VALUE=DURATION:PT1H
X-Robots-Tag:noindex
X-PUBLISHED-TTL:PT1H
BEGIN:VTIMEZONE
TZID:Australia/Brisbane
BEGIN:STANDARD
TZOFFSETFROM:+1000
TZOFFSETTO:+1000
TZNAME:AEST
DTSTART:20230101T000000
END:STANDARD
END:VTIMEZONE
BEGIN:VEVENT
DTSTART;VALUE=DATE:20240519
DTEND;VALUE=DATE:20240520
DTSTAMP:20260423T124628
CREATED:20211021T122244Z
LAST-MODIFIED:20231029T102820Z
UID:7277-1716076800-1716163199@brisbanearchery.org.au
SUMMARY:SQAS Target Championships - SVTA
DESCRIPTION:Hosted by Samford Valley Target Archers.   Check entry form closer to the time for details and to register.
URL:https://brisbanearchery.org.au/events/sqas-target-championships-sqas-selection-event-svta/
END:VEVENT
END:VCALENDAR