BEGIN:VCALENDAR
VERSION:2.0
PRODID:-//Mount Petrie Bowmen - ECPv6.15.18//NONSGML v1.0//EN
CALSCALE:GREGORIAN
METHOD:PUBLISH
X-ORIGINAL-URL:https://brisbanearchery.org.au
X-WR-CALDESC:Events for Mount Petrie Bowmen
REFRESH-INTERVAL;VALUE=DURATION:PT1H
X-Robots-Tag:noindex
X-PUBLISHED-TTL:PT1H
BEGIN:VTIMEZONE
TZID:Australia/Brisbane
BEGIN:STANDARD
TZOFFSETFROM:+1000
TZOFFSETTO:+1000
TZNAME:AEST
DTSTART:20230101T000000
END:STANDARD
END:VTIMEZONE
BEGIN:VEVENT
DTSTART;TZID=Australia/Brisbane:20240518T080000
DTEND;TZID=Australia/Brisbane:20240518T093000
DTSTAMP:20260423T074715
CREATED:20211021T112451Z
LAST-MODIFIED:20231105T114207Z
UID:7613-1716019200-1716024600@brisbanearchery.org.au
SUMMARY:Indoor Coaching
DESCRIPTION:
URL:https://brisbanearchery.org.au/events/indoor-coaching-10/
END:VEVENT
BEGIN:VEVENT
DTSTART;TZID=Australia/Brisbane:20240518T080000
DTEND;TZID=Australia/Brisbane:20240518T093000
DTSTAMP:20260423T074715
CREATED:20231105T113911Z
LAST-MODIFIED:20231105T113911Z
UID:9880-1716019200-1716024600@brisbanearchery.org.au
SUMMARY:Outdoor Coaching
DESCRIPTION:
URL:https://brisbanearchery.org.au/events/outdoor-coaching-44/
END:VEVENT
BEGIN:VEVENT
DTSTART;TZID=Australia/Brisbane:20240518T100000
DTEND;TZID=Australia/Brisbane:20240518T100000
DTSTAMP:20260423T074715
CREATED:20211021T122849Z
LAST-MODIFIED:20231105T114319Z
UID:7225-1716026400-1716026400@brisbanearchery.org.au
SUMMARY:Club Shoot
DESCRIPTION:Canberra\, Short Canberra\, Junior Canberra\, Mini Canberra\, Newcastle.  Be there by 9.30am.  Click for details & to register. \n\n\n\n\n	Hobart - 30 arrows at each of three distances (90\, 70\, 60m) on a 122cm target - 90 arrows total \n\n\n	Perth - 30 arrows at each of three distances (70\, 60\, 50m) on a 122cm target - 90 arrows total\n\n\n	Canberra - 30 arrows at each of three distances (60\, 50\, 40m) on a 122cm target - 90 arrows total\n\n\n	Short Canberra - 30 arrows at each of three distances (50\, 40\, 30m) on a 122cm target - 90 arrows total\n\n\n	Junior Canberra - 30 arrows at each of three distances (40\, 30\, 20m) on a 122cm target - 90 arrows total\n\n\n	Geelong - 90 arrows at 30m on a 122cm target\n\n\n	Newcastle (the novice shoot) - 90 arrows at 20m on a nice generous 122cm target
URL:https://brisbanearchery.org.au/events/club-shoot-25/
END:VEVENT
END:VCALENDAR