BEGIN:VCALENDAR
VERSION:2.0
PRODID:-//Mount Petrie Bowmen - ECPv6.15.18//NONSGML v1.0//EN
CALSCALE:GREGORIAN
METHOD:PUBLISH
X-ORIGINAL-URL:https://brisbanearchery.org.au
X-WR-CALDESC:Events for Mount Petrie Bowmen
REFRESH-INTERVAL;VALUE=DURATION:PT1H
X-Robots-Tag:noindex
X-PUBLISHED-TTL:PT1H
BEGIN:VTIMEZONE
TZID:Australia/Brisbane
BEGIN:STANDARD
TZOFFSETFROM:+1000
TZOFFSETTO:+1000
TZNAME:AEST
DTSTART:20230101T000000
END:STANDARD
END:VTIMEZONE
BEGIN:VEVENT
DTSTART;VALUE=DATE:20240427
DTEND;VALUE=DATE:20240428
DTSTAMP:20260423T074730
CREATED:20231030T120902Z
LAST-MODIFIED:20231030T120902Z
UID:9888-1714176000-1714262399@brisbanearchery.org.au
SUMMARY:MPB AGM - After Morning Club Shoot
DESCRIPTION:
URL:https://brisbanearchery.org.au/events/mpb-agm-after-morning-club-shoot/
END:VEVENT
BEGIN:VEVENT
DTSTART;TZID=Australia/Brisbane:20240427T080000
DTEND;TZID=Australia/Brisbane:20240427T093000
DTSTAMP:20260423T074730
CREATED:20211021T113102Z
LAST-MODIFIED:20231029T094210Z
UID:7590-1714204800-1714210200@brisbanearchery.org.au
SUMMARY:Indoor Coaching
DESCRIPTION:
URL:https://brisbanearchery.org.au/events/indoor-coaching-12/
END:VEVENT
BEGIN:VEVENT
DTSTART;TZID=Australia/Brisbane:20240427T080000
DTEND;TZID=Australia/Brisbane:20240427T093000
DTSTAMP:20260423T074730
CREATED:20231030T112452Z
LAST-MODIFIED:20231030T112452Z
UID:9837-1714204800-1714210200@brisbanearchery.org.au
SUMMARY:Outdoor Coaching
DESCRIPTION:
URL:https://brisbanearchery.org.au/events/outdoor-coaching-22/
END:VEVENT
BEGIN:VEVENT
DTSTART;TZID=Australia/Brisbane:20240427T093000
DTEND;TZID=Australia/Brisbane:20240427T093000
DTSTAMP:20260423T074730
CREATED:20231030T103359Z
LAST-MODIFIED:20231102T121705Z
UID:9773-1714210200-1714210200@brisbanearchery.org.au
SUMMARY:Club Shoot
DESCRIPTION:Target QRE – 720 Rounds – Single Round.  Members wanting to compete officially in the QRE must check the entry form on the SQAS website closer to the time for details and to register. \nMembers who do not want to shoot the QRE may practice independently.  Please set up away from the QRE shooters.
URL:https://brisbanearchery.org.au/events/target-qre-720-rounds-single-round-8/
END:VEVENT
END:VCALENDAR