BEGIN:VCALENDAR
VERSION:2.0
PRODID:-//Mount Petrie Bowmen - ECPv6.15.18//NONSGML v1.0//EN
CALSCALE:GREGORIAN
METHOD:PUBLISH
X-ORIGINAL-URL:https://brisbanearchery.org.au
X-WR-CALDESC:Events for Mount Petrie Bowmen
REFRESH-INTERVAL;VALUE=DURATION:PT1H
X-Robots-Tag:noindex
X-PUBLISHED-TTL:PT1H
BEGIN:VTIMEZONE
TZID:Australia/Brisbane
BEGIN:STANDARD
TZOFFSETFROM:+1000
TZOFFSETTO:+1000
TZNAME:AEST
DTSTART:20230101T000000
END:STANDARD
END:VTIMEZONE
BEGIN:VEVENT
DTSTART;VALUE=DATE:20240406
DTEND;VALUE=DATE:20240407
DTSTAMP:20260423T112839
CREATED:20211021T112719Z
LAST-MODIFIED:20231029T100247Z
UID:7607-1712361600-1712447999@brisbanearchery.org.au
SUMMARY:No Indoor Coaching
DESCRIPTION:No indoor coaching owing to Come & Try.
URL:https://brisbanearchery.org.au/events/no-indoor-coaching-5/
END:VEVENT
BEGIN:VEVENT
DTSTART;VALUE=DATE:20240406
DTEND;VALUE=DATE:20240407
DTSTAMP:20260423T112839
CREATED:20231030T105947Z
LAST-MODIFIED:20231030T105947Z
UID:9795-1712361600-1712447999@brisbanearchery.org.au
SUMMARY:No Outdoor Coaching
DESCRIPTION:
URL:https://brisbanearchery.org.au/events/no-outdoor-coaching-10/
END:VEVENT
BEGIN:VEVENT
DTSTART;TZID=Australia/Brisbane:20240406T080000
DTEND;TZID=Australia/Brisbane:20240406T113000
DTSTAMP:20260423T112839
CREATED:20211022T114114Z
LAST-MODIFIED:20231029T060034Z
UID:6823-1712390400-1712403000@brisbanearchery.org.au
SUMMARY:Come & Try
DESCRIPTION:No indoor coaching owing to Come & Try Course.
URL:https://brisbanearchery.org.au/events/come-try-10/
END:VEVENT
BEGIN:VEVENT
DTSTART;TZID=Australia/Brisbane:20240406T123000
DTEND;TZID=Australia/Brisbane:20240406T123000
DTSTAMP:20260423T112839
CREATED:20211021T115112Z
LAST-MODIFIED:20231029T060215Z
UID:7535-1712406600-1712406600@brisbanearchery.org.au
SUMMARY:Club Shoot
DESCRIPTION:Grange\, Melbourne\, Darwin\, Geelong\, Newcastle.  Be there by 12.00noon.  Click for details & to register. \n\n\n\n\n	Grange – 90 arrows at 60m on a 122cm target\n\n\n	Melbourne – 90 arrows at 50m on a 122cm target\n\n\n	Darwin – 90 arrows at 40m on a 122cm target\n\n\n	Geelong – 90 arrows at 30m on a 122cm target\n\n\n	Newcastle – (the novice shoot) 90 arrows at 20m on a 122cm target
URL:https://brisbanearchery.org.au/events/club-shoot-13/
END:VEVENT
BEGIN:VEVENT
DTSTART;TZID=Australia/Brisbane:20240406T123000
DTEND;TZID=Australia/Brisbane:20240406T143000
DTSTAMP:20260423T112839
CREATED:20231031T123458Z
LAST-MODIFIED:20231031T123458Z
UID:9953-1712406600-1712413800@brisbanearchery.org.au
SUMMARY:Archery Certificate Course (Fast-Track)
DESCRIPTION:For persons who have previously completed an MPB Come & Try.
URL:https://brisbanearchery.org.au/events/archery-certificate-course-fast-track-5/
END:VEVENT
END:VCALENDAR