BEGIN:VCALENDAR
VERSION:2.0
PRODID:-//Mount Petrie Bowmen - ECPv6.15.18//NONSGML v1.0//EN
CALSCALE:GREGORIAN
METHOD:PUBLISH
X-WR-CALNAME:Mount Petrie Bowmen
X-ORIGINAL-URL:https://brisbanearchery.org.au
X-WR-CALDESC:Events for Mount Petrie Bowmen
REFRESH-INTERVAL;VALUE=DURATION:PT1H
X-Robots-Tag:noindex
X-PUBLISHED-TTL:PT1H
BEGIN:VTIMEZONE
TZID:Australia/Brisbane
BEGIN:STANDARD
TZOFFSETFROM:+1000
TZOFFSETTO:+1000
TZNAME:AEST
DTSTART:20230101T000000
END:STANDARD
END:VTIMEZONE
BEGIN:VEVENT
DTSTART;TZID=Australia/Brisbane:20240328T190000
DTEND;TZID=Australia/Brisbane:20240328T190000
DTSTAMP:20260423T132327
CREATED:20211021T130926Z
LAST-MODIFIED:20231101T124005Z
UID:7044-1711652400-1711652400@brisbanearchery.org.au
SUMMARY:Thursday Night Indoor - 25m
DESCRIPTION:Be there by 6.30pm.  2 x 25m Australian (Vegas) Indoor – 60 arrows total. Click for details & to register.
URL:https://brisbanearchery.org.au/events/thursday-night-indoor-18m-75/
END:VEVENT
END:VCALENDAR