BEGIN:VCALENDAR
VERSION:2.0
PRODID:-//Mount Petrie Bowmen - ECPv6.15.18//NONSGML v1.0//EN
CALSCALE:GREGORIAN
METHOD:PUBLISH
X-ORIGINAL-URL:https://brisbanearchery.org.au
X-WR-CALDESC:Events for Mount Petrie Bowmen
REFRESH-INTERVAL;VALUE=DURATION:PT1H
X-Robots-Tag:noindex
X-PUBLISHED-TTL:PT1H
BEGIN:VTIMEZONE
TZID:Australia/Brisbane
BEGIN:STANDARD
TZOFFSETFROM:+1000
TZOFFSETTO:+1000
TZNAME:AEST
DTSTART:20230101T000000
END:STANDARD
END:VTIMEZONE
BEGIN:VEVENT
DTSTART;VALUE=DATE:20240323
DTEND;VALUE=DATE:20240324
DTSTAMP:20260423T150126
CREATED:20231105T111409Z
LAST-MODIFIED:20231105T111409Z
UID:10067-1711152000-1711238399@brisbanearchery.org.au
SUMMARY:No Indoor Coaching
DESCRIPTION:No indoor coaching.
URL:https://brisbanearchery.org.au/events/no-indoor-coaching-11/
END:VEVENT
BEGIN:VEVENT
DTSTART;TZID=Australia/Brisbane:20240323T080000
DTEND;TZID=Australia/Brisbane:20240323T093000
DTSTAMP:20260423T150126
CREATED:20231030T120655Z
LAST-MODIFIED:20231105T110057Z
UID:9511-1711180800-1711186200@brisbanearchery.org.au
SUMMARY:Outdoor Coaching
DESCRIPTION:
URL:https://brisbanearchery.org.au/events/no-outdoor-coaching-20/
END:VEVENT
BEGIN:VEVENT
DTSTART;TZID=Australia/Brisbane:20240323T100000
DTEND;TZID=Australia/Brisbane:20240323T100000
DTSTAMP:20260423T150126
CREATED:20211021T114457Z
LAST-MODIFIED:20231103T093753Z
UID:7259-1711188000-1711188000@brisbanearchery.org.au
SUMMARY:Club Shoot
DESCRIPTION:Silver Arrow Indoor #1 & Club Championship #1.  No indoor coaching.  Be there by 9.30am.  Click for details & to register. \n\n\n\n\n	1 x Double AA Indoor at 25 metres (60 arrows)\, and\n\n\n	1 x Double AA Indoor at 18 metres (60 arrows)
URL:https://brisbanearchery.org.au/events/club-shoot-silver-arrow-indoor-1-club-championship-1/
END:VEVENT
END:VCALENDAR