BEGIN:VCALENDAR
VERSION:2.0
PRODID:-//Mount Petrie Bowmen - ECPv6.15.18//NONSGML v1.0//EN
CALSCALE:GREGORIAN
METHOD:PUBLISH
X-ORIGINAL-URL:https://brisbanearchery.org.au
X-WR-CALDESC:Events for Mount Petrie Bowmen
REFRESH-INTERVAL;VALUE=DURATION:PT1H
X-Robots-Tag:noindex
X-PUBLISHED-TTL:PT1H
BEGIN:VTIMEZONE
TZID:Australia/Brisbane
BEGIN:STANDARD
TZOFFSETFROM:+1000
TZOFFSETTO:+1000
TZNAME:AEST
DTSTART:20230101T000000
END:STANDARD
END:VTIMEZONE
BEGIN:VEVENT
DTSTART;TZID=Australia/Brisbane:20240309T080000
DTEND;TZID=Australia/Brisbane:20240309T093000
DTSTAMP:20260423T111943
CREATED:20211021T115335Z
LAST-MODIFIED:20231029T052249Z
UID:7516-1709971200-1709976600@brisbanearchery.org.au
SUMMARY:Indoor Coaching
DESCRIPTION:
URL:https://brisbanearchery.org.au/events/indoor-coaching-51/
END:VEVENT
BEGIN:VEVENT
DTSTART;TZID=Australia/Brisbane:20240309T080000
DTEND;TZID=Australia/Brisbane:20240309T093000
DTSTAMP:20260423T111943
CREATED:20231030T112055Z
LAST-MODIFIED:20231030T112055Z
UID:9827-1709971200-1709976600@brisbanearchery.org.au
SUMMARY:Outdoor Coaching
DESCRIPTION:
URL:https://brisbanearchery.org.au/events/outdoor-coaching-17/
END:VEVENT
BEGIN:VEVENT
DTSTART;TZID=Australia/Brisbane:20240309T100000
DTEND;TZID=Australia/Brisbane:20240309T100000
DTSTAMP:20260423T111943
CREATED:20231030T120454Z
LAST-MODIFIED:20231102T120544Z
UID:9885-1709978400-1709978400@brisbanearchery.org.au
SUMMARY:Club Shoot
DESCRIPTION:Silver Arrow Target #1.  Be there by 9.30am.  Click for details & to register. \n\n\n\n\n	Long Silver Arrow – 36 arrows at each of 70\, 60m 50\, 30m on a 122cm target - 144 arrows total\n\n\n	Short Silver Arrow – 36 arrows at each of 60\, 50\, 40\, 30m on a 122cm target - 144 arrows total\n\n\n	Junior Silver Arrow – 36 arrows at each of 50\, 40m\, 30m\, 20m on a 122cm target - 144 arrows total\n\n\n	Mini Silver Arrow – 36 arrows at 40m\, 30m\, 30m\, 20m on a 122cm target - 144 arrows total\n\n\n	First 12mts Silver Arrow – 36 arrows at each of 30\, 30m\, 20m\, 20m on an 122cm target - 144 arrows total
URL:https://brisbanearchery.org.au/events/silver-arrow-target-1-aa20-720/
END:VEVENT
END:VCALENDAR