BEGIN:VCALENDAR
VERSION:2.0
PRODID:-//Mount Petrie Bowmen - ECPv6.15.18//NONSGML v1.0//EN
CALSCALE:GREGORIAN
METHOD:PUBLISH
X-WR-CALNAME:Mount Petrie Bowmen
X-ORIGINAL-URL:https://brisbanearchery.org.au
X-WR-CALDESC:Events for Mount Petrie Bowmen
REFRESH-INTERVAL;VALUE=DURATION:PT1H
X-Robots-Tag:noindex
X-PUBLISHED-TTL:PT1H
BEGIN:VTIMEZONE
TZID:Australia/Brisbane
BEGIN:STANDARD
TZOFFSETFROM:+1000
TZOFFSETTO:+1000
TZNAME:AEST
DTSTART:20230101T000000
END:STANDARD
END:VTIMEZONE
BEGIN:VEVENT
DTSTART;VALUE=DATE:20240302
DTEND;VALUE=DATE:20240303
DTSTAMP:20260425T094130
CREATED:20211021T114819Z
LAST-MODIFIED:20231029T055825Z
UID:7539-1709337600-1709423999@brisbanearchery.org.au
SUMMARY:No Indoor Coaching
DESCRIPTION:No indoor coaching owing to Archery Citificate Course.
URL:https://brisbanearchery.org.au/events/no-indoor-coaching-7/
END:VEVENT
BEGIN:VEVENT
DTSTART;VALUE=DATE:20240302
DTEND;VALUE=DATE:20240303
DTSTAMP:20260425T094130
CREATED:20231030T105829Z
LAST-MODIFIED:20231030T105829Z
UID:9793-1709337600-1709423999@brisbanearchery.org.au
SUMMARY:No Outdoor Coaching
DESCRIPTION:
URL:https://brisbanearchery.org.au/events/no-outdoor-coaching-9/
END:VEVENT
BEGIN:VEVENT
DTSTART;TZID=Australia/Brisbane:20240302T080000
DTEND;TZID=Australia/Brisbane:20240302T133000
DTSTAMP:20260425T094130
CREATED:20210830T123153Z
LAST-MODIFIED:20231029T050837Z
UID:6811-1709366400-1709386200@brisbanearchery.org.au
SUMMARY:Archery Certificate Course
DESCRIPTION:No indoor coaching owing to Archery Certificate Course.
URL:https://brisbanearchery.org.au/events/archery-certificate-course-10/
LOCATION:Mount Petrie Bowmen\, Archery Rd\, Belmont\, QLD\, 4153\, Australia
END:VEVENT
BEGIN:VEVENT
DTSTART;TZID=Australia/Brisbane:20240302T123000
DTEND;TZID=Australia/Brisbane:20240302T123000
DTSTAMP:20260425T094130
CREATED:20211021T122719Z
LAST-MODIFIED:20231029T053943Z
UID:7235-1709382600-1709382600@brisbanearchery.org.au
SUMMARY:Club Shoot
DESCRIPTION:Grange\, Melbourne\, Darwin\, Geelong\, Newcastle.  Be there by 12.00noon.  Click for details & to register. \n\n\n\n\n	Grange – 90 arrows at 60m on a 122cm target\n\n\n	Melbourne – 90 arrows at 50m on a 122cm target\n\n\n	Darwin – 90 arrows at 40m on a 122cm target\n\n\n	Geelong – 90 arrows at 30m on a 122cm target\n\n\n	Newcastle – (the novice shoot) 90 arrows at 20m on a 122cm target
URL:https://brisbanearchery.org.au/events/club-shoot-20/
END:VEVENT
END:VCALENDAR