BEGIN:VCALENDAR
VERSION:2.0
PRODID:-//Mount Petrie Bowmen - ECPv6.15.18//NONSGML v1.0//EN
CALSCALE:GREGORIAN
METHOD:PUBLISH
X-WR-CALNAME:Mount Petrie Bowmen
X-ORIGINAL-URL:https://brisbanearchery.org.au
X-WR-CALDESC:Events for Mount Petrie Bowmen
REFRESH-INTERVAL;VALUE=DURATION:PT1H
X-Robots-Tag:noindex
X-PUBLISHED-TTL:PT1H
BEGIN:VTIMEZONE
TZID:Australia/Brisbane
BEGIN:STANDARD
TZOFFSETFROM:+1000
TZOFFSETTO:+1000
TZNAME:AEST
DTSTART:20230101T000000
END:STANDARD
END:VTIMEZONE
BEGIN:VEVENT
DTSTART;VALUE=DATE:20240203
DTEND;VALUE=DATE:20240204
DTSTAMP:20260423T200727
CREATED:20211021T115501Z
LAST-MODIFIED:20231108T073915Z
UID:7510-1706918400-1707004799@brisbanearchery.org.au
SUMMARY:No Indoor Coaching
DESCRIPTION:No indoor coaching owing to Come & Try.
URL:https://brisbanearchery.org.au/events/no-indoor-coaching-20/
END:VEVENT
BEGIN:VEVENT
DTSTART;VALUE=DATE:20240203
DTEND;VALUE=DATE:20240204
DTSTAMP:20260423T200727
CREATED:20231030T105549Z
LAST-MODIFIED:20231030T105549Z
UID:9791-1706918400-1707004799@brisbanearchery.org.au
SUMMARY:No Outdoor Coaching
DESCRIPTION:
URL:https://brisbanearchery.org.au/events/no-outdoor-coaching-8/
END:VEVENT
BEGIN:VEVENT
DTSTART;TZID=Australia/Brisbane:20240203T080000
DTEND;TZID=Australia/Brisbane:20240203T113000
DTSTAMP:20260423T200727
CREATED:20211022T114208Z
LAST-MODIFIED:20231027T124904Z
UID:6820-1706947200-1706959800@brisbanearchery.org.au
SUMMARY:Come & Try
DESCRIPTION:No indoor coaching owing to Come & Try Course.
URL:https://brisbanearchery.org.au/events/come-try-13/
END:VEVENT
BEGIN:VEVENT
DTSTART;TZID=Australia/Brisbane:20240203T123000
DTEND;TZID=Australia/Brisbane:20240203T123000
DTSTAMP:20260423T200727
CREATED:20211021T122737Z
LAST-MODIFIED:20231029T051032Z
UID:7233-1706963400-1706963400@brisbanearchery.org.au
SUMMARY:Club Shoot
DESCRIPTION:Grange\, Melbourne\, Darwin\, Geelong\, Newcastle.  Be there by 12.00noon.  Click for details & to register. \n\n\n\n\n	Grange – 90 arrows at 60m on a 122cm target\n\n\n	Melbourne – 90 arrows at 50m on a 122cm target\n\n\n	Darwin – 90 arrows at 40m on a 122cm target\n\n\n	Geelong – 90 arrows at 30m on a 122cm target\n\n\n	Newcastle – (the novice shoot) 90 arrows at 20m on a 122cm target
URL:https://brisbanearchery.org.au/events/club-shoot-21/
END:VEVENT
BEGIN:VEVENT
DTSTART;TZID=Australia/Brisbane:20240203T123000
DTEND;TZID=Australia/Brisbane:20240203T143000
DTSTAMP:20260423T200727
CREATED:20231031T123259Z
LAST-MODIFIED:20231031T123358Z
UID:9950-1706963400-1706970600@brisbanearchery.org.au
SUMMARY:Archery Certificate Course (Fast-Track)
DESCRIPTION:For persons who have previously completed an MPB Come & Try.
URL:https://brisbanearchery.org.au/events/archery-certificate-course-fast-track-4/
END:VEVENT
END:VCALENDAR