BEGIN:VCALENDAR
VERSION:2.0
PRODID:-//Mount Petrie Bowmen - ECPv6.15.18//NONSGML v1.0//EN
CALSCALE:GREGORIAN
METHOD:PUBLISH
X-ORIGINAL-URL:https://brisbanearchery.org.au
X-WR-CALDESC:Events for Mount Petrie Bowmen
REFRESH-INTERVAL;VALUE=DURATION:PT1H
X-Robots-Tag:noindex
X-PUBLISHED-TTL:PT1H
BEGIN:VTIMEZONE
TZID:Australia/Brisbane
BEGIN:STANDARD
TZOFFSETFROM:+1000
TZOFFSETTO:+1000
TZNAME:AEST
DTSTART:20230101T000000
END:STANDARD
END:VTIMEZONE
BEGIN:VEVENT
DTSTART;TZID=Australia/Brisbane:20240102T190000
DTEND;TZID=Australia/Brisbane:20240102T190000
DTSTAMP:20260423T201720
CREATED:20200920T130059Z
LAST-MODIFIED:20231101T125126Z
UID:5586-1704222000-1704222000@brisbanearchery.org.au
SUMMARY:Tuesday Night Indoor - 18m
DESCRIPTION:Be there by 6.30pm.  Click for details & to register.  2 x 18m Australian (Vegas) Indoor – 60 arrows total.
URL:https://brisbanearchery.org.au/events/thursday-night-indoor-18m-55/
END:VEVENT
END:VCALENDAR