BEGIN:VCALENDAR
VERSION:2.0
PRODID:-//Mount Petrie Bowmen - ECPv6.15.18//NONSGML v1.0//EN
CALSCALE:GREGORIAN
METHOD:PUBLISH
X-ORIGINAL-URL:https://brisbanearchery.org.au
X-WR-CALDESC:Events for Mount Petrie Bowmen
REFRESH-INTERVAL;VALUE=DURATION:PT1H
X-Robots-Tag:noindex
X-PUBLISHED-TTL:PT1H
BEGIN:VTIMEZONE
TZID:Australia/Brisbane
BEGIN:STANDARD
TZOFFSETFROM:+1000
TZOFFSETTO:+1000
TZNAME:AEST
DTSTART:20220101T000000
END:STANDARD
END:VTIMEZONE
BEGIN:VEVENT
DTSTART;VALUE=DATE:20231223
DTEND;VALUE=DATE:20231224
DTSTAMP:20260423T200919
CREATED:20230610T091358Z
LAST-MODIFIED:20230610T091702Z
UID:9512-1703289600-1703375999@brisbanearchery.org.au
SUMMARY:No Indoor or Outdoor Coaching
DESCRIPTION:No coaching while our volunteer coaches have a well-earned rest.
URL:https://brisbanearchery.org.au/events/no-indoor-or-outdoor-coaching-5/
END:VEVENT
BEGIN:VEVENT
DTSTART;TZID=Australia/Brisbane:20231223T100000
DTEND;TZID=Australia/Brisbane:20231223T100000
DTSTAMP:20260423T200919
CREATED:20221015T111515Z
LAST-MODIFIED:20221015T111515Z
UID:8354-1703325600-1703325600@brisbanearchery.org.au
SUMMARY:Club Shoot
DESCRIPTION:All 720 Rounds (single round).  Be there by 9.30am.  Click for details & to register. \n\n\n\n\n	WA70/720 – 72 arrows at 70m on a 122cm target\n\n\n	WA60/720 – 72 arrows at 60m on a 122cm target\n\n\n	WA50/720 (compound) – 72 arrows at 50m on an 80cm target\n\n\n	AA50/720 – 72 arrows at 50m on a 122cm target\n\n\n	AA40/720 – 72 arrows at 40m on a 122cm target\n\n\n	AA30/720 – 72 arrows at 30m on a 122cm target\n\n\n	AA20/720 – 72 arrows at 20m on a 122cm target
URL:https://brisbanearchery.org.au/events/club-shoot-63/
END:VEVENT
END:VCALENDAR