BEGIN:VCALENDAR
VERSION:2.0
PRODID:-//Mount Petrie Bowmen - ECPv6.15.18//NONSGML v1.0//EN
CALSCALE:GREGORIAN
METHOD:PUBLISH
X-WR-CALNAME:Mount Petrie Bowmen
X-ORIGINAL-URL:https://brisbanearchery.org.au
X-WR-CALDESC:Events for Mount Petrie Bowmen
REFRESH-INTERVAL;VALUE=DURATION:PT1H
X-Robots-Tag:noindex
X-PUBLISHED-TTL:PT1H
BEGIN:VTIMEZONE
TZID:Australia/Brisbane
BEGIN:STANDARD
TZOFFSETFROM:+1000
TZOFFSETTO:+1000
TZNAME:AEST
DTSTART:20220101T000000
END:STANDARD
END:VTIMEZONE
BEGIN:VEVENT
DTSTART;VALUE=DATE:20231209
DTEND;VALUE=DATE:20231210
DTSTAMP:20260424T030538
CREATED:20221229T110558Z
LAST-MODIFIED:20230307T010853Z
UID:9195-1702080000-1702166399@brisbanearchery.org.au
SUMMARY:No Outdoor Coaching or Indoor Coaching
DESCRIPTION:
URL:https://brisbanearchery.org.au/events/no-club-coaching-or-indoor-coaching/
END:VEVENT
BEGIN:VEVENT
DTSTART;TZID=Australia/Brisbane:20231209T100000
DTEND;TZID=Australia/Brisbane:20231209T100000
DTSTAMP:20260424T030538
CREATED:20221229T110402Z
LAST-MODIFIED:20230102T112614Z
UID:9193-1702116000-1702116000@brisbanearchery.org.au
SUMMARY:Christmas Party & Fun Shoot
DESCRIPTION:Fun shoots start at 10.00am.  Lunch around 12.30pm.
URL:https://brisbanearchery.org.au/events/christmas-party-fun-shoot-3/
END:VEVENT
END:VCALENDAR