BEGIN:VCALENDAR
VERSION:2.0
PRODID:-//Mount Petrie Bowmen - ECPv6.15.18//NONSGML v1.0//EN
CALSCALE:GREGORIAN
METHOD:PUBLISH
X-WR-CALNAME:Mount Petrie Bowmen
X-ORIGINAL-URL:https://brisbanearchery.org.au
X-WR-CALDESC:Events for Mount Petrie Bowmen
REFRESH-INTERVAL;VALUE=DURATION:PT1H
X-Robots-Tag:noindex
X-PUBLISHED-TTL:PT1H
BEGIN:VTIMEZONE
TZID:Australia/Brisbane
BEGIN:STANDARD
TZOFFSETFROM:+1000
TZOFFSETTO:+1000
TZNAME:AEST
DTSTART:20220101T000000
END:STANDARD
END:VTIMEZONE
BEGIN:VEVENT
DTSTART;VALUE=DATE:20231202
DTEND;VALUE=DATE:20231203
DTSTAMP:20260423T214654
CREATED:20221031T051436Z
LAST-MODIFIED:20221031T051510Z
UID:8790-1701475200-1701561599@brisbanearchery.org.au
SUMMARY:SQAS Field QRE
DESCRIPTION:Check entry form closer to the time for details and to register.   Muster at MPB Clubhouse. \n\n\n\n\n\n\n\n\nGo to “Who Shoots What” to learn what distances you need to shoot.  24 targets\, 72 arrows total.
URL:https://brisbanearchery.org.au/events/sqas-field-qre/
END:VEVENT
BEGIN:VEVENT
DTSTART;VALUE=DATE:20231202
DTEND;VALUE=DATE:20231203
DTSTAMP:20260423T214654
CREATED:20230610T083200Z
LAST-MODIFIED:20230610T083200Z
UID:9494-1701475200-1701561599@brisbanearchery.org.au
SUMMARY:No Indoor or Outdoor Coaching
DESCRIPTION:No coaching owing to the Come & Try.
URL:https://brisbanearchery.org.au/events/no-indoor-or-outdoor-coaching-6/
END:VEVENT
BEGIN:VEVENT
DTSTART;TZID=Australia/Brisbane:20231202T080000
DTEND;TZID=Australia/Brisbane:20231202T113000
DTSTAMP:20260423T214654
CREATED:20221220T115534Z
LAST-MODIFIED:20221220T115534Z
UID:9061-1701504000-1701516600@brisbanearchery.org.au
SUMMARY:Come & Try
DESCRIPTION:No indoor coaching owing to Come & Try Course.
URL:https://brisbanearchery.org.au/events/come-try-7/
END:VEVENT
BEGIN:VEVENT
DTSTART;TZID=Australia/Brisbane:20231202T123000
DTEND;TZID=Australia/Brisbane:20231202T123000
DTSTAMP:20260423T214654
CREATED:20221023T073306Z
LAST-MODIFIED:20221023T074045Z
UID:8650-1701520200-1701520200@brisbanearchery.org.au
SUMMARY:Club Shoot
DESCRIPTION:Holt\, Samford\, Drake\, Geelong\, Newcastle.  Be there by 12.00noon.  Click for details & to register. \n\n\n\n\n	Holt - 90 arrows at 50m on an 80cm target\n\n\n	Samford - 90 arrows at 40m on an 80cm target\n\n\n	Drake - 90 arrows at 30m on an 80cm target\n\n\n	Geelong - 90 arrows at 30m on a 122cm target\n\n\n	Newcastle (the novice shoot) - 90 arrows at 20m on a 122cm target
URL:https://brisbanearchery.org.au/events/club-shoot-69/
END:VEVENT
BEGIN:VEVENT
DTSTART;TZID=Australia/Brisbane:20231202T123000
DTEND;TZID=Australia/Brisbane:20231202T143000
DTSTAMP:20260423T214654
CREATED:20230602T074133Z
LAST-MODIFIED:20230602T074133Z
UID:9413-1701520200-1701527400@brisbanearchery.org.au
SUMMARY:Archery Certificate Course (Fast-Track)
DESCRIPTION:
URL:https://brisbanearchery.org.au/events/archery-certificate-course-fast-track-3/
END:VEVENT
END:VCALENDAR