BEGIN:VCALENDAR
VERSION:2.0
PRODID:-//Mount Petrie Bowmen - ECPv6.15.18//NONSGML v1.0//EN
CALSCALE:GREGORIAN
METHOD:PUBLISH
X-ORIGINAL-URL:https://brisbanearchery.org.au
X-WR-CALDESC:Events for Mount Petrie Bowmen
REFRESH-INTERVAL;VALUE=DURATION:PT1H
X-Robots-Tag:noindex
X-PUBLISHED-TTL:PT1H
BEGIN:VTIMEZONE
TZID:Australia/Brisbane
BEGIN:STANDARD
TZOFFSETFROM:+1000
TZOFFSETTO:+1000
TZNAME:AEST
DTSTART:20220101T000000
END:STANDARD
END:VTIMEZONE
BEGIN:VEVENT
DTSTART;VALUE=DATE:20231125
DTEND;VALUE=DATE:20231126
DTSTAMP:20260424T060233
CREATED:20230102T120137Z
LAST-MODIFIED:20230102T120257Z
UID:9207-1700870400-1700956799@brisbanearchery.org.au
SUMMARY:SQAS Matchplay Championship & SQAS Award Afternoon - SVTA - TBC
DESCRIPTION:
URL:https://brisbanearchery.org.au/events/sqas-matchplay-championship-sqas-award-afternoon-svta-tbc/
END:VEVENT
BEGIN:VEVENT
DTSTART;TZID=Australia/Brisbane:20231125T080000
DTEND;TZID=Australia/Brisbane:20231125T093000
DTSTAMP:20260424T060233
CREATED:20230610T031802Z
LAST-MODIFIED:20230610T031802Z
UID:9442-1700899200-1700904600@brisbanearchery.org.au
SUMMARY:Outdoor Coaching
DESCRIPTION:Be there by 8.00am\, ready to go.
URL:https://brisbanearchery.org.au/events/outdoor-coaching-8/
END:VEVENT
BEGIN:VEVENT
DTSTART;TZID=Australia/Brisbane:20231125T080000
DTEND;TZID=Australia/Brisbane:20231125T093000
DTSTAMP:20260424T060233
CREATED:20230610T094741Z
LAST-MODIFIED:20230610T094741Z
UID:9522-1700899200-1700904600@brisbanearchery.org.au
SUMMARY:Indoor Coaching
DESCRIPTION:
URL:https://brisbanearchery.org.au/events/indoor-coaching-30/
END:VEVENT
BEGIN:VEVENT
DTSTART;TZID=Australia/Brisbane:20231125T100000
DTEND;TZID=Australia/Brisbane:20231125T100000
DTSTAMP:20260424T060233
CREATED:20221015T111345Z
LAST-MODIFIED:20221015T111345Z
UID:8352-1700906400-1700906400@brisbanearchery.org.au
SUMMARY:Club Shoot
DESCRIPTION:All 720 Rounds (single round).  Be there by 9.30am.  Click for details & to register. \n\n\n\n\n	WA70/720 – 72 arrows at 70m on a 122cm target\n\n\n	WA60/720 – 72 arrows at 60m on a 122cm target\n\n\n	WA50/720 (compound) – 72 arrows at 50m on an 80cm target\n\n\n	AA50/720 – 72 arrows at 50m on a 122cm target\n\n\n	AA40/720 – 72 arrows at 40m on a 122cm target\n\n\n	AA30/720 – 72 arrows at 30m on a 122cm target\n\n\n	AA20/720 – 72 arrows at 20m on a 122cm target
URL:https://brisbanearchery.org.au/events/club-shoot-62/
END:VEVENT
END:VCALENDAR