BEGIN:VCALENDAR
VERSION:2.0
PRODID:-//Mount Petrie Bowmen - ECPv6.15.18//NONSGML v1.0//EN
CALSCALE:GREGORIAN
METHOD:PUBLISH
X-WR-CALNAME:Mount Petrie Bowmen
X-ORIGINAL-URL:https://brisbanearchery.org.au
X-WR-CALDESC:Events for Mount Petrie Bowmen
REFRESH-INTERVAL;VALUE=DURATION:PT1H
X-Robots-Tag:noindex
X-PUBLISHED-TTL:PT1H
BEGIN:VTIMEZONE
TZID:Australia/Brisbane
BEGIN:STANDARD
TZOFFSETFROM:+1000
TZOFFSETTO:+1000
TZNAME:AEST
DTSTART:20220101T000000
END:STANDARD
END:VTIMEZONE
BEGIN:VEVENT
DTSTART;TZID=Australia/Brisbane:20231118T080000
DTEND;TZID=Australia/Brisbane:20231118T093000
DTSTAMP:20260424T024711
CREATED:20230610T045049Z
LAST-MODIFIED:20230610T045049Z
UID:9480-1700294400-1700299800@brisbanearchery.org.au
SUMMARY:Indoor Coaching
DESCRIPTION:
URL:https://brisbanearchery.org.au/events/indoor-coaching-28/
END:VEVENT
BEGIN:VEVENT
DTSTART;TZID=Australia/Brisbane:20231118T100000
DTEND;TZID=Australia/Brisbane:20231118T150000
DTSTAMP:20260424T024711
CREATED:20221029T122455Z
LAST-MODIFIED:20221206T121041Z
UID:8784-1700301600-1700319600@brisbanearchery.org.au
SUMMARY:Silver Arrow Clout #3
DESCRIPTION:Silver Arrow Clout #3.  Be there by 9.30am.  Click for details & to register. \nGo to “Who Shoots What” to learn what distance you need to shoot. \n\n\n\n\n	2 x 36 arrow Clout rounds - 72 arrows total
URL:https://brisbanearchery.org.au/events/silver-arrow-clout-3/
END:VEVENT
END:VCALENDAR