BEGIN:VCALENDAR
VERSION:2.0
PRODID:-//Mount Petrie Bowmen - ECPv6.15.18//NONSGML v1.0//EN
CALSCALE:GREGORIAN
METHOD:PUBLISH
X-ORIGINAL-URL:https://brisbanearchery.org.au
X-WR-CALDESC:Events for Mount Petrie Bowmen
REFRESH-INTERVAL;VALUE=DURATION:PT1H
X-Robots-Tag:noindex
X-PUBLISHED-TTL:PT1H
BEGIN:VTIMEZONE
TZID:Australia/Brisbane
BEGIN:STANDARD
TZOFFSETFROM:+1000
TZOFFSETTO:+1000
TZNAME:AEST
DTSTART:20220101T000000
END:STANDARD
END:VTIMEZONE
BEGIN:VEVENT
DTSTART;VALUE=DATE:20231105
DTEND;VALUE=DATE:20231106
DTSTAMP:20260424T042153
CREATED:20221108T100514Z
LAST-MODIFIED:20221108T100514Z
UID:8998-1699142400-1699228799@brisbanearchery.org.au
SUMMARY:Target QRE - MPB
DESCRIPTION:Check entry form closer to the time for details and to register. Two 720 Rounds. \n\n\n\n\n	WA 70/720 – 72 arrows at 70m on a 122cm target\n\n\n	WA 60/720 – 72 arrows at 60m on a 122cm target\n\n\n	WA 50/720 (compound) – 72 arrows at 50m on an 80cm target\n\n\n	Para W1 50/720 (80cm full face)\n\n\n	AA 50/720 – 72 arrows at 50m on a 122cm target\n\n\n	WA BB50/720 (122cm face)\n\n\n	AA 40/720 – 72 arrows at 40m on a 122cm target\n\n\n	AA 30/720 – 72 arrows at 30m on a 122cm target\n\n\n	VI 30/720 (80cm full face)
URL:https://brisbanearchery.org.au/events/target-qre-mpb-2/
END:VEVENT
END:VCALENDAR