BEGIN:VCALENDAR
VERSION:2.0
PRODID:-//Mount Petrie Bowmen - ECPv6.15.18//NONSGML v1.0//EN
CALSCALE:GREGORIAN
METHOD:PUBLISH
X-ORIGINAL-URL:https://brisbanearchery.org.au
X-WR-CALDESC:Events for Mount Petrie Bowmen
REFRESH-INTERVAL;VALUE=DURATION:PT1H
X-Robots-Tag:noindex
X-PUBLISHED-TTL:PT1H
BEGIN:VTIMEZONE
TZID:Australia/Brisbane
BEGIN:STANDARD
TZOFFSETFROM:+1000
TZOFFSETTO:+1000
TZNAME:AEST
DTSTART:20220101T000000
END:STANDARD
END:VTIMEZONE
BEGIN:VEVENT
DTSTART;TZID=Australia/Brisbane:20231021T080000
DTEND;TZID=Australia/Brisbane:20231021T093000
DTSTAMP:20260425T031211
CREATED:20230610T025454Z
LAST-MODIFIED:20230610T025539Z
UID:9445-1697875200-1697880600@brisbanearchery.org.au
SUMMARY:Outdoor Coaching
DESCRIPTION:Be there by 8.00am\, ready to go.
URL:https://brisbanearchery.org.au/events/outdoor-coaching-7/
END:VEVENT
BEGIN:VEVENT
DTSTART;TZID=Australia/Brisbane:20231021T080000
DTEND;TZID=Australia/Brisbane:20231021T093000
DTSTAMP:20260425T031211
CREATED:20230610T044850Z
LAST-MODIFIED:20230610T044850Z
UID:9474-1697875200-1697880600@brisbanearchery.org.au
SUMMARY:Indoor Coaching
DESCRIPTION:
URL:https://brisbanearchery.org.au/events/indoor-coaching-25/
END:VEVENT
BEGIN:VEVENT
DTSTART;TZID=Australia/Brisbane:20231021T123000
DTEND;TZID=Australia/Brisbane:20231021T123000
DTSTAMP:20260425T031211
CREATED:20221029T112952Z
LAST-MODIFIED:20230105T094614Z
UID:8772-1697891400-1697891400@brisbanearchery.org.au
SUMMARY:Club Shoot. Field Club Championship #2
DESCRIPTION:Field Club Championship #2.  Be there by 12.00noon.  Click for details & to register. \nGo to “Who Shoots What” to learn what distances you need to shoot.  24 targets\, 72 arrows total.
URL:https://brisbanearchery.org.au/events/club-shoot-field-club-championship-2-4/
END:VEVENT
END:VCALENDAR