BEGIN:VCALENDAR
VERSION:2.0
PRODID:-//Mount Petrie Bowmen - ECPv6.15.18//NONSGML v1.0//EN
CALSCALE:GREGORIAN
METHOD:PUBLISH
X-WR-CALNAME:Mount Petrie Bowmen
X-ORIGINAL-URL:https://brisbanearchery.org.au
X-WR-CALDESC:Events for Mount Petrie Bowmen
REFRESH-INTERVAL;VALUE=DURATION:PT1H
X-Robots-Tag:noindex
X-PUBLISHED-TTL:PT1H
BEGIN:VTIMEZONE
TZID:Australia/Brisbane
BEGIN:STANDARD
TZOFFSETFROM:+1000
TZOFFSETTO:+1000
TZNAME:AEST
DTSTART:20220101T000000
END:STANDARD
END:VTIMEZONE
BEGIN:VEVENT
DTSTART;VALUE=DATE:20231007
DTEND;VALUE=DATE:20231008
DTSTAMP:20260426T054408
CREATED:20230610T080143Z
LAST-MODIFIED:20230610T080143Z
UID:9488-1696636800-1696723199@brisbanearchery.org.au
SUMMARY:No Indoor or Outdoor Coaching
DESCRIPTION:No coaching owing to the Come & Try.
URL:https://brisbanearchery.org.au/events/no-indoor-or-outdoor-coaching-3/
END:VEVENT
BEGIN:VEVENT
DTSTART;TZID=Australia/Brisbane:20231007T080000
DTEND;TZID=Australia/Brisbane:20231007T113000
DTSTAMP:20260426T054408
CREATED:20221220T115657Z
LAST-MODIFIED:20221220T115657Z
UID:9063-1696665600-1696678200@brisbanearchery.org.au
SUMMARY:Come & Try
DESCRIPTION:No indoor coaching owing to Come & Try Course.
URL:https://brisbanearchery.org.au/events/come-try-9/
END:VEVENT
BEGIN:VEVENT
DTSTART;TZID=Australia/Brisbane:20231007T123000
DTEND;TZID=Australia/Brisbane:20231007T123000
DTSTAMP:20260426T054408
CREATED:20221023T073235Z
LAST-MODIFIED:20221023T073235Z
UID:8648-1696681800-1696681800@brisbanearchery.org.au
SUMMARY:Club Shoot
DESCRIPTION:Holt\, Samford\, Drake\, Geelong\, Newcastle.  Be there by 12.00noon.  Click for details & to register. \n\n\n\n\n	Holt - 90 arrows at 50m on an 80cm target\n\n\n	Samford - 90 arrows at 40m on an 80cm target\n\n\n	Drake - 90 arrows at 30m on an 80cm target\n\n\n	Geelong - 90 arrows at 30m on a 122cm target\n\n\n	Newcastle (the novice shoot) - 90 arrows at 20m on a 122cm target
URL:https://brisbanearchery.org.au/events/club-shoot-68/
END:VEVENT
BEGIN:VEVENT
DTSTART;TZID=Australia/Brisbane:20231007T123000
DTEND;TZID=Australia/Brisbane:20231007T143000
DTSTAMP:20260426T054408
CREATED:20230602T074020Z
LAST-MODIFIED:20230602T074020Z
UID:9411-1696681800-1696689000@brisbanearchery.org.au
SUMMARY:Archery Certificate Course (Fast-Track)
DESCRIPTION:
URL:https://brisbanearchery.org.au/events/archery-certificate-course-fast-track-2/
END:VEVENT
END:VCALENDAR