BEGIN:VCALENDAR
VERSION:2.0
PRODID:-//Mount Petrie Bowmen - ECPv6.15.18//NONSGML v1.0//EN
CALSCALE:GREGORIAN
METHOD:PUBLISH
X-WR-CALNAME:Mount Petrie Bowmen
X-ORIGINAL-URL:https://brisbanearchery.org.au
X-WR-CALDESC:Events for Mount Petrie Bowmen
REFRESH-INTERVAL;VALUE=DURATION:PT1H
X-Robots-Tag:noindex
X-PUBLISHED-TTL:PT1H
BEGIN:VTIMEZONE
TZID:Australia/Brisbane
BEGIN:STANDARD
TZOFFSETFROM:+1000
TZOFFSETTO:+1000
TZNAME:AEST
DTSTART:20220101T000000
END:STANDARD
END:VTIMEZONE
BEGIN:VEVENT
DTSTART;VALUE=DATE:20230729
DTEND;VALUE=DATE:20230730
DTSTAMP:20260425T080312
CREATED:20221023T105725Z
LAST-MODIFIED:20221023T105725Z
UID:8715-1690588800-1690675199@brisbanearchery.org.au
SUMMARY:SQAS Regional Development Program Day - TBC
DESCRIPTION:
URL:https://brisbanearchery.org.au/events/sqas-regional-development-program-day-tbc-3/
END:VEVENT
BEGIN:VEVENT
DTSTART;TZID=Australia/Brisbane:20230729T080000
DTEND;TZID=Australia/Brisbane:20230729T093000
DTSTAMP:20260425T080312
CREATED:20230610T023923Z
LAST-MODIFIED:20230610T023923Z
UID:9426-1690617600-1690623000@brisbanearchery.org.au
SUMMARY:Outdoor Coaching
DESCRIPTION:Be there by 8.00am\, ready to go.
URL:https://brisbanearchery.org.au/events/outdoor-coaching-2/
END:VEVENT
BEGIN:VEVENT
DTSTART;TZID=Australia/Brisbane:20230729T080000
DTEND;TZID=Australia/Brisbane:20230729T093000
DTSTAMP:20260425T080312
CREATED:20230610T042430Z
LAST-MODIFIED:20230610T042430Z
UID:9456-1690617600-1690623000@brisbanearchery.org.au
SUMMARY:Indoor Coaching
DESCRIPTION:
URL:https://brisbanearchery.org.au/events/indoor-coaching-17/
END:VEVENT
BEGIN:VEVENT
DTSTART;TZID=Australia/Brisbane:20230729T093000
DTEND;TZID=Australia/Brisbane:20230729T093000
DTSTAMP:20260425T080312
CREATED:20221212T085252Z
LAST-MODIFIED:20230307T002124Z
UID:9012-1690623000-1690623000@brisbanearchery.org.au
SUMMARY:Target QRE - 720 Rounds - Single Round
DESCRIPTION:Members wanting to compete officially in the QRE must check the entry form on the SQAS website closer to the time for details and to register. \nMembers who do not want to shoot the QRE may practice independently.  Please set up away from the QRE shooters.
URL:https://brisbanearchery.org.au/events/target-qre-720-rounds-single-round-4/
END:VEVENT
END:VCALENDAR