BEGIN:VCALENDAR
VERSION:2.0
PRODID:-//Mount Petrie Bowmen - ECPv6.15.18//NONSGML v1.0//EN
CALSCALE:GREGORIAN
METHOD:PUBLISH
X-WR-CALNAME:Mount Petrie Bowmen
X-ORIGINAL-URL:https://brisbanearchery.org.au
X-WR-CALDESC:Events for Mount Petrie Bowmen
REFRESH-INTERVAL;VALUE=DURATION:PT1H
X-Robots-Tag:noindex
X-PUBLISHED-TTL:PT1H
BEGIN:VTIMEZONE
TZID:Australia/Brisbane
BEGIN:STANDARD
TZOFFSETFROM:+1000
TZOFFSETTO:+1000
TZNAME:AEST
DTSTART:20220101T000000
END:STANDARD
END:VTIMEZONE
BEGIN:VEVENT
DTSTART;VALUE=DATE:20230429
DTEND;VALUE=DATE:20230430
DTSTAMP:20260425T204230
CREATED:20220103T133309Z
LAST-MODIFIED:20230103T053125Z
UID:8180-1682726400-1682812799@brisbanearchery.org.au
SUMMARY:MPB AGM - After Morning Club Shoot
DESCRIPTION:
URL:https://brisbanearchery.org.au/events/mpb-agm-time-tbc/
END:VEVENT
BEGIN:VEVENT
DTSTART;TZID=Australia/Brisbane:20230429T080000
DTEND;TZID=Australia/Brisbane:20230429T093000
DTSTAMP:20260425T204230
CREATED:20221031T073601Z
LAST-MODIFIED:20230126T102408Z
UID:8828-1682755200-1682760600@brisbanearchery.org.au
SUMMARY:Indoor Coaching
DESCRIPTION:
URL:https://brisbanearchery.org.au/events/indoor-coaching-72/
END:VEVENT
BEGIN:VEVENT
DTSTART;TZID=Australia/Brisbane:20230429T080000
DTEND;TZID=Australia/Brisbane:20230429T093000
DTSTAMP:20260425T204230
CREATED:20221220T121153Z
LAST-MODIFIED:20230307T020534Z
UID:9076-1682755200-1682760600@brisbanearchery.org.au
SUMMARY:Coaching - Outdoor Range
DESCRIPTION:Be there by 8.00am\, ready to go.
URL:https://brisbanearchery.org.au/events/club-coaching-outdoor-range-6/
END:VEVENT
BEGIN:VEVENT
DTSTART;TZID=Australia/Brisbane:20230429T093000
DTEND;TZID=Australia/Brisbane:20230429T093000
DTSTAMP:20260425T204230
CREATED:20221101T103927Z
LAST-MODIFIED:20230307T002229Z
UID:8988-1682760600-1682760600@brisbanearchery.org.au
SUMMARY:Target QRE - 720 Rounds - Single Round
DESCRIPTION:Members wanting to compete officially in the QRE must check the entry form on the SQAS website closer to the time for details and to register. \nMembers who do not want to shoot the QRE may practice independently.  Please set up away from the QRE shooters. \n 
URL:https://brisbanearchery.org.au/events/target-qre-720-rounds-single-round-2/
END:VEVENT
END:VCALENDAR