BEGIN:VCALENDAR
VERSION:2.0
PRODID:-//Mount Petrie Bowmen - ECPv6.15.18//NONSGML v1.0//EN
CALSCALE:GREGORIAN
METHOD:PUBLISH
X-ORIGINAL-URL:https://brisbanearchery.org.au
X-WR-CALDESC:Events for Mount Petrie Bowmen
REFRESH-INTERVAL;VALUE=DURATION:PT1H
X-Robots-Tag:noindex
X-PUBLISHED-TTL:PT1H
BEGIN:VTIMEZONE
TZID:Australia/Brisbane
BEGIN:STANDARD
TZOFFSETFROM:+1000
TZOFFSETTO:+1000
TZNAME:AEST
DTSTART:20220101T000000
END:STANDARD
END:VTIMEZONE
BEGIN:VEVENT
DTSTART;TZID=Australia/Brisbane:20230415T080000
DTEND;TZID=Australia/Brisbane:20230415T093000
DTSTAMP:20260425T205519
CREATED:20221031T073403Z
LAST-MODIFIED:20230126T102258Z
UID:8824-1681545600-1681551000@brisbanearchery.org.au
SUMMARY:Indoor Coaching
DESCRIPTION:
URL:https://brisbanearchery.org.au/events/indoor-coaching-70/
END:VEVENT
BEGIN:VEVENT
DTSTART;TZID=Australia/Brisbane:20230415T080000
DTEND;TZID=Australia/Brisbane:20230415T093000
DTSTAMP:20260425T205519
CREATED:20221220T121120Z
LAST-MODIFIED:20230307T020613Z
UID:9074-1681545600-1681551000@brisbanearchery.org.au
SUMMARY:Coaching - Outdoor Range
DESCRIPTION:Be there by 8.00am\, ready to go.
URL:https://brisbanearchery.org.au/events/club-coaching-outdoor-range-5/
END:VEVENT
BEGIN:VEVENT
DTSTART;TZID=Australia/Brisbane:20230415T100000
DTEND;TZID=Australia/Brisbane:20230415T100000
DTSTAMP:20260425T205519
CREATED:20221023T075430Z
LAST-MODIFIED:20221023T080252Z
UID:8656-1681552800-1681552800@brisbanearchery.org.au
SUMMARY:Club Shoot
DESCRIPTION:Canberra\, Short Canberra\, Junior Canberra\, Mini Canberra\, Newcastle.  Be there by 9.30am.  Click for details & to register. \n\n\n\n\n	Canberra - 30 arrows at each of three distances (60\, 50\, 40m) on a 122cm target – 90 arrows total\n\n\n	Short Canberra - 30 arrows at each of three distances (50\, 40\, 30m) on a 122cm target – 90 arrows total\n\n\n	Junior Canberra - 30 arrows at each of three distances (40\, 30\, 20m) on a 122cm target – 90 arrows total\n\n\n	Mini Canberra - 30 arrows at each of three distances (30\, 20\, 10m) on a 122cm target - 90 arrows total\n\n\n	Newcastle – (the novice shoot for beginners) 90 arrows at 20m on a 122cm target face – 90 arrows total
URL:https://brisbanearchery.org.au/events/club-shoot-71/
END:VEVENT
END:VCALENDAR