BEGIN:VCALENDAR
VERSION:2.0
PRODID:-//Mount Petrie Bowmen - ECPv6.15.18//NONSGML v1.0//EN
CALSCALE:GREGORIAN
METHOD:PUBLISH
X-ORIGINAL-URL:https://brisbanearchery.org.au
X-WR-CALDESC:Events for Mount Petrie Bowmen
REFRESH-INTERVAL;VALUE=DURATION:PT1H
X-Robots-Tag:noindex
X-PUBLISHED-TTL:PT1H
BEGIN:VTIMEZONE
TZID:Australia/Brisbane
BEGIN:STANDARD
TZOFFSETFROM:+1000
TZOFFSETTO:+1000
TZNAME:AEST
DTSTART:20220101T000000
END:STANDARD
END:VTIMEZONE
BEGIN:VEVENT
DTSTART;VALUE=DATE:20230304
DTEND;VALUE=DATE:20230305
DTSTAMP:20260426T002409
CREATED:20221031T093114Z
LAST-MODIFIED:20221031T093114Z
UID:8932-1677888000-1677974399@brisbanearchery.org.au
SUMMARY:No Indoor Coaching
DESCRIPTION:No indoor coaching owing to Archery Certificate Course.
URL:https://brisbanearchery.org.au/events/no-indoor-coaching-31/
END:VEVENT
BEGIN:VEVENT
DTSTART;VALUE=DATE:20230304
DTEND;VALUE=DATE:20230305
DTSTAMP:20260426T002409
CREATED:20221031T094257Z
LAST-MODIFIED:20221220T123533Z
UID:8944-1677888000-1677974399@brisbanearchery.org.au
SUMMARY:No Club Coaching
DESCRIPTION:
URL:https://brisbanearchery.org.au/events/roo-shoot-47/
END:VEVENT
BEGIN:VEVENT
DTSTART;TZID=Australia/Brisbane:20230304T080000
DTEND;TZID=Australia/Brisbane:20230304T133000
DTSTAMP:20260426T002409
CREATED:20221014T112019Z
LAST-MODIFIED:20221014T112019Z
UID:8334-1677916800-1677936600@brisbanearchery.org.au
SUMMARY:Archery Certificate Course
DESCRIPTION:No indoor coaching owing to Archery Certificate Course.
URL:https://brisbanearchery.org.au/events/archery-certificate-course-18/
END:VEVENT
BEGIN:VEVENT
DTSTART;TZID=Australia/Brisbane:20230304T123000
DTEND;TZID=Australia/Brisbane:20230304T123000
DTSTAMP:20260426T002409
CREATED:20221023T094930Z
LAST-MODIFIED:20221023T094930Z
UID:8683-1677933000-1677933000@brisbanearchery.org.au
SUMMARY:Club Shoot
DESCRIPTION:Grange\, Melbourne\, Darwin\, Geelong\, Newcastle.  Be there by 12.00noon.  Click for details & to register. \n\n\n\n\n	Grange – 90 arrows at 60m on a 122cm target\n\n\n	Melbourne – 90 arrows at 50m on a 122cm target\n\n\n	Darwin – 90 arrows at 40m on a 122cm target\n\n\n	Geelong – 90 arrows at 30m on a 122cm target\n\n\n	Newcastle – (the novice shoot) 90 arrows at 20m on a 122cm target
URL:https://brisbanearchery.org.au/events/club-shoot-83/
END:VEVENT
END:VCALENDAR