BEGIN:VCALENDAR
VERSION:2.0
PRODID:-//Mount Petrie Bowmen - ECPv6.15.18//NONSGML v1.0//EN
CALSCALE:GREGORIAN
METHOD:PUBLISH
X-WR-CALNAME:Mount Petrie Bowmen
X-ORIGINAL-URL:https://brisbanearchery.org.au
X-WR-CALDESC:Events for Mount Petrie Bowmen
REFRESH-INTERVAL;VALUE=DURATION:PT1H
X-Robots-Tag:noindex
X-PUBLISHED-TTL:PT1H
BEGIN:VTIMEZONE
TZID:Australia/Brisbane
BEGIN:STANDARD
TZOFFSETFROM:+1000
TZOFFSETTO:+1000
TZNAME:AEST
DTSTART:20220101T000000
END:STANDARD
END:VTIMEZONE
BEGIN:VEVENT
DTSTART;TZID=Australia/Brisbane:20230225T080000
DTEND;TZID=Australia/Brisbane:20230225T093000
DTSTAMP:20260426T002358
CREATED:20221031T072907Z
LAST-MODIFIED:20230126T101542Z
UID:8814-1677312000-1677317400@brisbanearchery.org.au
SUMMARY:Indoor Coaching
DESCRIPTION:
URL:https://brisbanearchery.org.au/events/indoor-coaching-65/
END:VEVENT
BEGIN:VEVENT
DTSTART;TZID=Australia/Brisbane:20230225T080000
DTEND;TZID=Australia/Brisbane:20230225T093000
DTSTAMP:20260426T002358
CREATED:20221220T120846Z
LAST-MODIFIED:20221220T120846Z
UID:9068-1677312000-1677317400@brisbanearchery.org.au
SUMMARY:Club Coaching - Outdoor Range
DESCRIPTION:Be there by 8.00am\, ready to go.
URL:https://brisbanearchery.org.au/events/club-coaching-outdoor-range-2/
END:VEVENT
BEGIN:VEVENT
DTSTART;TZID=Australia/Brisbane:20230225T090000
DTEND;TZID=Australia/Brisbane:20230225T090000
DTSTAMP:20260426T002358
CREATED:20221031T113724Z
LAST-MODIFIED:20230102T114410Z
UID:8973-1677315600-1677315600@brisbanearchery.org.au
SUMMARY:Target QRE - 720 Rounds - Single Round
DESCRIPTION:Members wanting to compete officially in the QRE must check the entry form on the SQAS website closer to the time for details and to register. \nMembers who do not want to shoot the QRE may practice independently.  Please set up away from the QRE shooters. \n 
URL:https://brisbanearchery.org.au/events/target-qre-720-rounds-single-round/
END:VEVENT
END:VCALENDAR